BEGIN:VCALENDAR
VERSION:2.0
PRODID:-//PBS Books - ECPv6.15.18//NONSGML v1.0//EN
CALSCALE:GREGORIAN
METHOD:PUBLISH
X-ORIGINAL-URL:https://www.pbsbooks.org
X-WR-CALDESC:Events for PBS Books
REFRESH-INTERVAL;VALUE=DURATION:PT1H
X-Robots-Tag:noindex
X-PUBLISHED-TTL:PT1H
BEGIN:VTIMEZONE
TZID:UTC
BEGIN:STANDARD
TZOFFSETFROM:+0000
TZOFFSETTO:+0000
TZNAME:UTC
DTSTART:20200101T000000
END:STANDARD
END:VTIMEZONE
BEGIN:VEVENT
DTSTART;TZID=UTC:20210409T200000
DTEND;TZID=UTC:20210409T210000
DTSTAMP:20260425T223808
CREATED:20210405T214449Z
LAST-MODIFIED:20210414T214458Z
UID:3652-1617998400-1618002000@www.pbsbooks.org
SUMMARY:Penny Stamps: Ken Fischer and Wynton Marsalis
DESCRIPTION:Exploring community connection through the performing arts\, UMS President Emeritus Ken Fischer and jazz musician Wynton Marsalis come together in a conversation moderated by Lisa Richards Toney\, president and CEO of the APAP Conference NYC.
URL:https://www.pbsbooks.org/event/penny-stamps-ken-fischer-and-wynton-marsalis/
LOCATION:Facebook Live
CATEGORIES:Facebook Live
ATTACH;FMTTYPE=image/jpeg:https://www.pbsbooks.org/wp-content/uploads/2021/04/marsalis-fischer.jpg
END:VEVENT
END:VCALENDAR