BEGIN:VCALENDAR
VERSION:2.0
PRODID:-//PBS Books - ECPv6.15.18//NONSGML v1.0//EN
CALSCALE:GREGORIAN
METHOD:PUBLISH
X-WR-CALNAME:PBS Books
X-ORIGINAL-URL:https://www.pbsbooks.org
X-WR-CALDESC:Events for PBS Books
REFRESH-INTERVAL;VALUE=DURATION:PT1H
X-Robots-Tag:noindex
X-PUBLISHED-TTL:PT1H
BEGIN:VTIMEZONE
TZID:America/Halifax
BEGIN:DAYLIGHT
TZOFFSETFROM:-0400
TZOFFSETTO:-0300
TZNAME:ADT
DTSTART:20200308T060000
END:DAYLIGHT
BEGIN:STANDARD
TZOFFSETFROM:-0300
TZOFFSETTO:-0400
TZNAME:AST
DTSTART:20201101T050000
END:STANDARD
BEGIN:DAYLIGHT
TZOFFSETFROM:-0400
TZOFFSETTO:-0300
TZNAME:ADT
DTSTART:20210314T060000
END:DAYLIGHT
BEGIN:STANDARD
TZOFFSETFROM:-0300
TZOFFSETTO:-0400
TZNAME:AST
DTSTART:20211107T050000
END:STANDARD
BEGIN:DAYLIGHT
TZOFFSETFROM:-0400
TZOFFSETTO:-0300
TZNAME:ADT
DTSTART:20220313T060000
END:DAYLIGHT
BEGIN:STANDARD
TZOFFSETFROM:-0300
TZOFFSETTO:-0400
TZNAME:AST
DTSTART:20221106T050000
END:STANDARD
END:VTIMEZONE
BEGIN:VEVENT
DTSTART;TZID=America/Halifax:20210511T200000
DTEND;TZID=America/Halifax:20210511T210000
DTSTAMP:20260425T205827
CREATED:20210503T201643Z
LAST-MODIFIED:20210616T214409Z
UID:3760-1620763200-1620766800@www.pbsbooks.org
SUMMARY:Author Talk: History of Black Education
DESCRIPTION:﻿ \nAuthor Talk on Education PBS Books\, in partnership with the Association for the Study of African American Life and History (ASALH)\, presents their author Jarvis Givens\, and scholars Cornel West and Brandon Terry discussing the history of Black education in the US sparked by Givens’ new book  Fugitive Pedagogy: Carter G. Woodson and the Art of Black Teaching. \nAbout the Book \nGivens’ new book Fugitive Pedagogy journeys through the subversive history of black education\, and it uses the life of famed educator Carter G. Woodson (1875-1950) to elevate the political and intellectual contributions made by teachers to the long black freedom struggle.\n\nAbout the Conversation\nProfessors Jarvis Givens and Cornel West will discuss the life of Carter G. Woodson (1875-1950) as a student\, teacher\, and education leader. But\, as Givens shows in his new book\, Fugitive Pedagogy: Carter G. Woodson and the Art of Black Teaching (Harvard University Press\, 2021)\, Woodson was the product of longstanding subversive traditions among black schoolteachers\, the educators who taught him and those whom he worked alongside. Givens and West will discuss why black teachers were so central to the long black freedom movement\, and what lessons we might glean from their legacy as we search for meaningful education today. This conversation will be moderated by Professor Brandon Terry.
URL:https://www.pbsbooks.org/event/author-talk-history-of-black-education/
CATEGORIES:ASALH,Facebook Live
ATTACH;FMTTYPE=image/png:https://www.pbsbooks.org/wp-content/uploads/2021/05/PBS-BKS_HSTRY-BLK-ED_1200x630.png
END:VEVENT
END:VCALENDAR