BEGIN:VCALENDAR
VERSION:2.0
PRODID:-//PBS Books - ECPv6.15.18//NONSGML v1.0//EN
CALSCALE:GREGORIAN
METHOD:PUBLISH
X-ORIGINAL-URL:https://www.pbsbooks.org
X-WR-CALDESC:Events for PBS Books
REFRESH-INTERVAL;VALUE=DURATION:PT1H
X-Robots-Tag:noindex
X-PUBLISHED-TTL:PT1H
BEGIN:VTIMEZONE
TZID:America/Detroit
BEGIN:DAYLIGHT
TZOFFSETFROM:-0500
TZOFFSETTO:-0400
TZNAME:EDT
DTSTART:20200308T070000
END:DAYLIGHT
BEGIN:STANDARD
TZOFFSETFROM:-0400
TZOFFSETTO:-0500
TZNAME:EST
DTSTART:20201101T060000
END:STANDARD
BEGIN:DAYLIGHT
TZOFFSETFROM:-0500
TZOFFSETTO:-0400
TZNAME:EDT
DTSTART:20210314T070000
END:DAYLIGHT
BEGIN:STANDARD
TZOFFSETFROM:-0400
TZOFFSETTO:-0500
TZNAME:EST
DTSTART:20211107T060000
END:STANDARD
BEGIN:DAYLIGHT
TZOFFSETFROM:-0500
TZOFFSETTO:-0400
TZNAME:EDT
DTSTART:20220313T070000
END:DAYLIGHT
BEGIN:STANDARD
TZOFFSETFROM:-0400
TZOFFSETTO:-0500
TZNAME:EST
DTSTART:20221106T060000
END:STANDARD
END:VTIMEZONE
BEGIN:VEVENT
DTSTART;TZID=America/Detroit:20210512T130000
DTEND;TZID=America/Detroit:20210512T140000
DTSTAMP:20260422T155826
CREATED:20211108T205158Z
LAST-MODIFIED:20230926T181439Z
UID:4336-1620824400-1620828000@www.pbsbooks.org
SUMMARY:Retirement Readiness for Military Families
DESCRIPTION:Listen in as experts discuss the tools servicemembers and their families have available to plan and save for their future. How does the military’s 2018 blended retirement system work? What sort of VA benefits are available to service members? \nEven if you served in the military years ago\, you may be eligible for valuable grants or interest-free loans created to help veterans and their families deal with COVID-related financial challenges\, or transition to civilan life after military service. Where to go to find more resources for life after leaving the military? \nPlus\, members of the military are often targeted by scammers. Learn how to recognize and avoid scams… and so much more.
URL:https://www.pbsbooks.org/event/retirement-readiness-for-military-families-2/
ATTACH;FMTTYPE=image/png:https://www.pbsbooks.org/wp-content/uploads/2021/05/RETIREMENT-READINESS-GRAPHIC-SHOW-3.png
END:VEVENT
END:VCALENDAR