BEGIN:VCALENDAR
VERSION:2.0
PRODID:-//PBS Books - ECPv6.15.18//NONSGML v1.0//EN
CALSCALE:GREGORIAN
METHOD:PUBLISH
X-ORIGINAL-URL:https://www.pbsbooks.org
X-WR-CALDESC:Events for PBS Books
REFRESH-INTERVAL;VALUE=DURATION:PT1H
X-Robots-Tag:noindex
X-PUBLISHED-TTL:PT1H
BEGIN:VTIMEZONE
TZID:America/Detroit
BEGIN:DAYLIGHT
TZOFFSETFROM:-0500
TZOFFSETTO:-0400
TZNAME:EDT
DTSTART:20200308T070000
END:DAYLIGHT
BEGIN:STANDARD
TZOFFSETFROM:-0400
TZOFFSETTO:-0500
TZNAME:EST
DTSTART:20201101T060000
END:STANDARD
BEGIN:DAYLIGHT
TZOFFSETFROM:-0500
TZOFFSETTO:-0400
TZNAME:EDT
DTSTART:20210314T070000
END:DAYLIGHT
BEGIN:STANDARD
TZOFFSETFROM:-0400
TZOFFSETTO:-0500
TZNAME:EST
DTSTART:20211107T060000
END:STANDARD
BEGIN:DAYLIGHT
TZOFFSETFROM:-0500
TZOFFSETTO:-0400
TZNAME:EDT
DTSTART:20220313T070000
END:DAYLIGHT
BEGIN:STANDARD
TZOFFSETFROM:-0400
TZOFFSETTO:-0500
TZNAME:EST
DTSTART:20221106T060000
END:STANDARD
END:VTIMEZONE
BEGIN:VEVENT
DTSTART;TZID=America/Detroit:20210625T130000
DTEND;TZID=America/Detroit:20210625T140000
DTSTAMP:20260425T192811
CREATED:20210510T005330Z
LAST-MODIFIED:20210628T211031Z
UID:3907-1624626000-1624629600@www.pbsbooks.org
SUMMARY:Harnessing your Inner Hummingbird: How to Build Your Nest Egg
DESCRIPTION:﻿ \nSaving for retirement is about more than just stashing away cash in a jar. How much will you need? What’s the easiest way to continue contributing after you retire? We’ll take you through simple steps to grow a comfortable nest egg that will last through your golden years.
URL:https://www.pbsbooks.org/event/harnessing-your-inner-hummingbird-how-to-build-your-nest-egg/
ATTACH;FMTTYPE=image/png:https://www.pbsbooks.org/wp-content/uploads/2021/05/BUILDING-A-NEST-EGG-SHOW-4-v7.png
END:VEVENT
END:VCALENDAR