BEGIN:VCALENDAR
VERSION:2.0
PRODID:-//PBS Books - ECPv6.15.18//NONSGML v1.0//EN
CALSCALE:GREGORIAN
METHOD:PUBLISH
X-ORIGINAL-URL:https://www.pbsbooks.org
X-WR-CALDESC:Events for PBS Books
REFRESH-INTERVAL;VALUE=DURATION:PT1H
X-Robots-Tag:noindex
X-PUBLISHED-TTL:PT1H
BEGIN:VTIMEZONE
TZID:America/Detroit
BEGIN:DAYLIGHT
TZOFFSETFROM:-0500
TZOFFSETTO:-0400
TZNAME:EDT
DTSTART:20200308T070000
END:DAYLIGHT
BEGIN:STANDARD
TZOFFSETFROM:-0400
TZOFFSETTO:-0500
TZNAME:EST
DTSTART:20201101T060000
END:STANDARD
BEGIN:DAYLIGHT
TZOFFSETFROM:-0500
TZOFFSETTO:-0400
TZNAME:EDT
DTSTART:20210314T070000
END:DAYLIGHT
BEGIN:STANDARD
TZOFFSETFROM:-0400
TZOFFSETTO:-0500
TZNAME:EST
DTSTART:20211107T060000
END:STANDARD
BEGIN:DAYLIGHT
TZOFFSETFROM:-0500
TZOFFSETTO:-0400
TZNAME:EDT
DTSTART:20220313T070000
END:DAYLIGHT
BEGIN:STANDARD
TZOFFSETFROM:-0400
TZOFFSETTO:-0500
TZNAME:EST
DTSTART:20221106T060000
END:STANDARD
END:VTIMEZONE
BEGIN:VEVENT
DTSTART;TZID=America/Detroit:20210825T200000
DTEND;TZID=America/Detroit:20210825T210000
DTSTAMP:20260425T161253
CREATED:20210816T172859Z
LAST-MODIFIED:20210816T173213Z
UID:4105-1629921600-1629925200@www.pbsbooks.org
SUMMARY:Celebrating the Library of Congress National Book Festival Author Talk: Martha Wells
DESCRIPTION:﻿﻿﻿ \nWednesday\, August 25th at 8:00 PM ET | 5:00 PM PT: PBS Books presents this Author Talk with Martha Wells about her book Fugitive Telemetry. \nIn collaboration with South Florida PBS\, PBS Books is honored to host this virtual engagement event with author Martha Wells on August 25th as part of our dynamic\, sequel partnership with The Library of Congress for the 2021 Library of Congress National Book Festival “Open a Book\, Open the World.”  This conversation with be moderated by South Florida PBS Between the Covers Ann Bocock. \nAfter a successful partnership with The Library of Congress last year\, this second series of virtual author talks with legendary authors of our time will center on this year’s theme: “Open a Book\, Open the World.” The 2021 LOC Festival will be a 10-day event\, held from September 17-26\, 2021. Programming includes a 60-minute PBS Books special\, exploring the many worlds authors create\, investigate\, and share. Hosted by LeVar Burton\, the special will premiere on Sunday\, September 12\, from 6-7pm ET (Check your local listing). Additional PBS feed dates are Saturday\, September 18 at 7pm ET\, and Sunday\, September 19 at 1:30pm ET (more details to follow). Expect diverse discussions from incredible guests like Angie Thomas\, Tana French\, Viet Thanh Nguyen\, and Michael J. Fox. \nThroughout the months of August and September\, PBS Books is hosting ten events to celebrate several authors who are part of this thrilling special. These intimate\, moderated Q&As will be moments to learn about the care and curiosity that generates great writing. The events will provide insights into the upcoming festival and will be targeted to particular national regions. As always\, this PBS Books content will be accessible to all audiences. \nAbout the Author  \nMartha Wells has written many fantasy novels\, including The Wizard Hunters\, Wheel of the Infinite\, the Books of the Raksura series (beginning with The Cloud Roads and ending with The Harbors of the Sun)\, and the Nebula-nominated The Death of the Necromancer\, as well as YA fantasy novels\, short stories\, and nonfiction. Her New York Times and USA Today-bestselling Murderbot Diaries series has won the Hugo\, Nebula\, Locus\, and Alex Awards. \n 
URL:https://www.pbsbooks.org/event/celebrating-the-library-of-congress-national-book-festival-author-talk-martha-wells/
ATTACH;FMTTYPE=image/png:https://www.pbsbooks.org/wp-content/uploads/2021/08/LOC-PBS-Martha-Wells.png
END:VEVENT
END:VCALENDAR