BEGIN:VCALENDAR
VERSION:2.0
PRODID:-//PBS Books - ECPv6.15.18//NONSGML v1.0//EN
CALSCALE:GREGORIAN
METHOD:PUBLISH
X-WR-CALNAME:PBS Books
X-ORIGINAL-URL:https://www.pbsbooks.org
X-WR-CALDESC:Events for PBS Books
REFRESH-INTERVAL;VALUE=DURATION:PT1H
X-Robots-Tag:noindex
X-PUBLISHED-TTL:PT1H
BEGIN:VTIMEZONE
TZID:America/Detroit
BEGIN:DAYLIGHT
TZOFFSETFROM:-0500
TZOFFSETTO:-0400
TZNAME:EDT
DTSTART:20200308T070000
END:DAYLIGHT
BEGIN:STANDARD
TZOFFSETFROM:-0400
TZOFFSETTO:-0500
TZNAME:EST
DTSTART:20201101T060000
END:STANDARD
BEGIN:DAYLIGHT
TZOFFSETFROM:-0500
TZOFFSETTO:-0400
TZNAME:EDT
DTSTART:20210314T070000
END:DAYLIGHT
BEGIN:STANDARD
TZOFFSETFROM:-0400
TZOFFSETTO:-0500
TZNAME:EST
DTSTART:20211107T060000
END:STANDARD
BEGIN:DAYLIGHT
TZOFFSETFROM:-0500
TZOFFSETTO:-0400
TZNAME:EDT
DTSTART:20220313T070000
END:DAYLIGHT
BEGIN:STANDARD
TZOFFSETFROM:-0400
TZOFFSETTO:-0500
TZNAME:EST
DTSTART:20221106T060000
END:STANDARD
END:VTIMEZONE
BEGIN:VEVENT
DTSTART;TZID=America/Detroit:20211012T200000
DTEND;TZID=America/Detroit:20211012T210000
DTSTAMP:20260425T161535
CREATED:20210927T185653Z
LAST-MODIFIED:20210928T171434Z
UID:4221-1634068800-1634072400@www.pbsbooks.org
SUMMARY:Author Talk: James Patterson and Matt Eversmann on E.R. Nurses
DESCRIPTION:﻿ \nTuesday\, October 12 at 8:00 PM ET | 5:00 PM PT: PBS Books presents this Author Talk with world’s best-selling author James Patterson and author Matt Eversmann about their latest collaborative book E.R. Nurses. \nIn celebration of ER Nurse Week\, PBSs Books is honored to host this virtual engagement event with authors James Patterson and Matt Eversmann on October 12th as part of our ongoing program to bring quality programming to libraries and PBS stations.  The event will enable audiences to hear about the book and get a sneak peak into their process as they documented real-life stories of ER nurses who save lives everyday. This conversation will feature an intimate\, moderated Q&As will be moments to learn about the care and curiosity that generates great writing. As always\, this PBS Books content will be accessible to all audiences. \nAbout the Authors\nJames Patterson is the world’s bestselling author. His enduring fictional characters and series include Alex Cross\, the Women’s Murder Club\, Michael Bennett\, Maximum Ride\, Middle School\, and Ali Cross\, along with such acclaimed works of narrative nonfiction as Walk in My Combat Boots\, E.R. Nurses\, and his autobiography\, James Patterson by James Patterson. Bill Clinton (The President Is Missing) and Dolly Parton (Run\, Rose\, Run) are among his notable literary collaborators. For his prodigious imagination and championship of literacy in America\, Patterson was awarded the 2019 National Humanities Medal. The National Book Foundation presented him with the Literarian Award for Outstanding Service to the American Literary Community\, and he is also the recipient of an Edgar Award and nine Emmy Awards. He lives in Florida with his family. \nMatt Eversmann retired from the Army after twenty years of service. His last assignment was as an Infantry Company First Sergeant in the 10th Mountain Division during the surge in Iraq. He spent almost half of his career in the 75th Ranger Regiment and was a member of Task Force Ranger\, the unit immortalized in the film Black Hawk Down. Matt and his family live in West Palm Beach where he runs his own consulting company\, Eversmann Advisory. \n 
URL:https://www.pbsbooks.org/event/author-talk-james-patterson-and-matt-eversmann-on-e-r-nurses/
ATTACH;FMTTYPE=image/png:https://www.pbsbooks.org/wp-content/uploads/2021/09/PATTESON-EVERSMANN_1024x630.png
END:VEVENT
END:VCALENDAR