BEGIN:VCALENDAR
VERSION:2.0
PRODID:-//PBS Books - ECPv6.15.18//NONSGML v1.0//EN
CALSCALE:GREGORIAN
METHOD:PUBLISH
X-ORIGINAL-URL:https://www.pbsbooks.org
X-WR-CALDESC:Events for PBS Books
REFRESH-INTERVAL;VALUE=DURATION:PT1H
X-Robots-Tag:noindex
X-PUBLISHED-TTL:PT1H
BEGIN:VTIMEZONE
TZID:America/Detroit
BEGIN:DAYLIGHT
TZOFFSETFROM:-0500
TZOFFSETTO:-0400
TZNAME:EDT
DTSTART:20200308T070000
END:DAYLIGHT
BEGIN:STANDARD
TZOFFSETFROM:-0400
TZOFFSETTO:-0500
TZNAME:EST
DTSTART:20201101T060000
END:STANDARD
BEGIN:DAYLIGHT
TZOFFSETFROM:-0500
TZOFFSETTO:-0400
TZNAME:EDT
DTSTART:20210314T070000
END:DAYLIGHT
BEGIN:STANDARD
TZOFFSETFROM:-0400
TZOFFSETTO:-0500
TZNAME:EST
DTSTART:20211107T060000
END:STANDARD
BEGIN:DAYLIGHT
TZOFFSETFROM:-0500
TZOFFSETTO:-0400
TZNAME:EDT
DTSTART:20220313T070000
END:DAYLIGHT
BEGIN:STANDARD
TZOFFSETFROM:-0400
TZOFFSETTO:-0500
TZNAME:EST
DTSTART:20221106T060000
END:STANDARD
END:VTIMEZONE
BEGIN:VEVENT
DTSTART;TZID=America/Detroit:20211022T130000
DTEND;TZID=America/Detroit:20211022T140000
DTSTAMP:20260423T043937
CREATED:20210921T162204Z
LAST-MODIFIED:20230926T180535Z
UID:4210-1634907600-1634911200@www.pbsbooks.org
SUMMARY:Financial & Investment Education Live Event
DESCRIPTION:Oct. 22 “FINANCIAL FRAUD: DISGUISES TO WATCH OUT FOR”\nLosing your retirement savings and investments to scams and fraud can be devastating. Some disguises are easy to spot – while others trip up even the most seasoned traders. Learn how to recognize\, report and protect yourself from all types of financial fraud. Stream this virtual conversation on the PBS Books Facebook page\, Friday\, October 22\, at 1 p.m. ET. \nPanelists include:\nJoseph Brady\, The North American Securities Administrators Association \nTiffany Couch\, Founder and CEO of forensics firm\, ‘Acuity Forensics’ \nMari Adam\, Certified Financial Planner
URL:https://www.pbsbooks.org/event/financial-investment-education-live-event-2/
ATTACH;FMTTYPE=image/png:https://www.pbsbooks.org/wp-content/uploads/2021/09/WI65_Fraud1.png
END:VEVENT
END:VCALENDAR