BEGIN:VCALENDAR
VERSION:2.0
PRODID:-//PBS Books - ECPv6.15.18//NONSGML v1.0//EN
CALSCALE:GREGORIAN
METHOD:PUBLISH
X-ORIGINAL-URL:https://www.pbsbooks.org
X-WR-CALDESC:Events for PBS Books
REFRESH-INTERVAL;VALUE=DURATION:PT1H
X-Robots-Tag:noindex
X-PUBLISHED-TTL:PT1H
BEGIN:VTIMEZONE
TZID:America/Detroit
BEGIN:DAYLIGHT
TZOFFSETFROM:-0500
TZOFFSETTO:-0400
TZNAME:EDT
DTSTART:20200308T070000
END:DAYLIGHT
BEGIN:STANDARD
TZOFFSETFROM:-0400
TZOFFSETTO:-0500
TZNAME:EST
DTSTART:20201101T060000
END:STANDARD
BEGIN:DAYLIGHT
TZOFFSETFROM:-0500
TZOFFSETTO:-0400
TZNAME:EDT
DTSTART:20210314T070000
END:DAYLIGHT
BEGIN:STANDARD
TZOFFSETFROM:-0400
TZOFFSETTO:-0500
TZNAME:EST
DTSTART:20211107T060000
END:STANDARD
BEGIN:DAYLIGHT
TZOFFSETFROM:-0500
TZOFFSETTO:-0400
TZNAME:EDT
DTSTART:20220313T070000
END:DAYLIGHT
BEGIN:STANDARD
TZOFFSETFROM:-0400
TZOFFSETTO:-0500
TZNAME:EST
DTSTART:20221106T060000
END:STANDARD
END:VTIMEZONE
BEGIN:VEVENT
DTSTART;TZID=America/Detroit:20211116T200000
DTEND;TZID=America/Detroit:20211116T210000
DTSTAMP:20260423T042937
CREATED:20211025T223635Z
LAST-MODIFIED:20211026T234958Z
UID:4281-1637092800-1637096400@www.pbsbooks.org
SUMMARY:Author Talk for Parents: Claire Lerner\, Why Is My Child In Charge?
DESCRIPTION:PBS Books presents this Author Talk with Claire Lerner\, helping parents get ready for the holidays with their children.\nThrough stories from her practice\, Lerner will provide tips to empower parents on how to make critical mindshifts and enable us to see their children’s behaviors through a new lens. Lerner will share highlights from her book and provide insights into how to establish a new path. roadmap for how to tune into the root causes of children’s behavior and how to create and implement strategies that are tailored to the unique needs of each child and family. \nAbout the Author\nClaire Lerner is a child development specialist and practicing clinician with more than 30 years of experience working with children and families in a range of capacities. Trained as a clinical social worker and psychotherapist\, she began her career as a child and family therapist. For nearly 20 years\, Lerner served as the director of parenting resources at ZERO TO THREE. \nLerner is the author of hundreds of parenting resources\, including blogs\, podcasts\, videos\, and her new book\, Why Is My Child in Charge? She writes a column for PBS Kids\, frequently contributes to parenting publications\, and has served as a content expert for numerous national daily newspapers. \nHer work and her writing are informed by her background in mental health\, her clinical experience with hundreds of children and families\, and what she describes as her most important “training”: raising two wonderfully complex and very spirited now adult children. She is also a mother to two adult stepchildren. Claire Lerner lives in Washington\, DC with her husband and a dog.
URL:https://www.pbsbooks.org/event/author-talk-for-parents-claire-lerner-why-is-my-child-in-charge/
ATTACH;FMTTYPE=image/png:https://www.pbsbooks.org/wp-content/uploads/2021/10/Clair-Lerner_1024x630.png
END:VEVENT
END:VCALENDAR