BEGIN:VCALENDAR
VERSION:2.0
PRODID:-//PBS Books - ECPv6.15.18//NONSGML v1.0//EN
CALSCALE:GREGORIAN
METHOD:PUBLISH
X-ORIGINAL-URL:https://www.pbsbooks.org
X-WR-CALDESC:Events for PBS Books
REFRESH-INTERVAL;VALUE=DURATION:PT1H
X-Robots-Tag:noindex
X-PUBLISHED-TTL:PT1H
BEGIN:VTIMEZONE
TZID:America/Detroit
BEGIN:DAYLIGHT
TZOFFSETFROM:-0500
TZOFFSETTO:-0400
TZNAME:EDT
DTSTART:20210314T070000
END:DAYLIGHT
BEGIN:STANDARD
TZOFFSETFROM:-0400
TZOFFSETTO:-0500
TZNAME:EST
DTSTART:20211107T060000
END:STANDARD
BEGIN:DAYLIGHT
TZOFFSETFROM:-0500
TZOFFSETTO:-0400
TZNAME:EDT
DTSTART:20220313T070000
END:DAYLIGHT
BEGIN:STANDARD
TZOFFSETFROM:-0400
TZOFFSETTO:-0500
TZNAME:EST
DTSTART:20221106T060000
END:STANDARD
BEGIN:DAYLIGHT
TZOFFSETFROM:-0500
TZOFFSETTO:-0400
TZNAME:EDT
DTSTART:20230312T070000
END:DAYLIGHT
BEGIN:STANDARD
TZOFFSETFROM:-0400
TZOFFSETTO:-0500
TZNAME:EST
DTSTART:20231105T060000
END:STANDARD
END:VTIMEZONE
BEGIN:VEVENT
DTSTART;TZID=America/Detroit:20220118T150000
DTEND;TZID=America/Detroit:20220118T150000
DTSTAMP:20260425T205905
CREATED:20220118T172245Z
LAST-MODIFIED:20220118T172833Z
UID:4430-1642518000-1642518000@www.pbsbooks.org
SUMMARY:The National Day of Racial Healing Virtual Livestream
DESCRIPTION:﻿ \nTuesday\, January 18\, 2022\, is a day to contemplate our shared values and create the blueprint together for #HowWeHeal from the effects of racism. The National Day of Racial Healing is an opportunity to bring ALL people together in their common humanity and inspire collective action to create a more just and equitable world. Since its launch in 2017\, this day has been observed every year on the Tuesday following Martin Luther King\, Jr. Day.  Broadcast journalist Soledad O’Brien has just been announced as this year’s host. The National Day of Racial Healing Virtual Livestream happens at Tuesday\, January 18\, 2022 at 3PM ET / 12PM PT. \nPBS Books is pleased to partner with the W.K. Kellogg Foundation to host the National Day of Racial Healing with a PBS Books Gathering at 8PM ET | 5PM ET on January 18 for libraries and local PBS stations to share with their communities.  The American Library Association (ALA)\, the Association of Research Libraries (ARL)\, and the Society of American Archivists (SAA) have called upon their collective memberships to observe the day with reflection and action.  Library partners have expressed an interest in sharing the conversation later in the evening.  PBS Books will host the program at 8pm ET on its social channels\, so that libraries can easily share the content with their community on Facebook\, YT\, or by embedding it. Go here for Partner Toolkit [LINK]. \nThe 6th annual National Day of Racial Healing observance will be hosted by Soledad O’Brien. Visit the W.K. Kellogg Foundation’s YouTube Channel to view the event. \nA second virtual gathering will take place on Tuesday\, January 18\, 2022 at 8PM EST on the PBS Books Facebook page. \nResources\nTo learn more about how you can start a dialogue of racial healing in your community\, check out the National Day of Racial Healing website. \n 
URL:https://www.pbsbooks.org/event/the-national-day-of-racial-healing-virtual-livestream/
LOCATION:Facebook Live
ATTACH;FMTTYPE=image/png:https://www.pbsbooks.org/wp-content/uploads/2022/01/PBks-NDH-1300x650_BNR-4.png
END:VEVENT
END:VCALENDAR