BEGIN:VCALENDAR
VERSION:2.0
PRODID:-//PBS Books - ECPv6.15.18//NONSGML v1.0//EN
CALSCALE:GREGORIAN
METHOD:PUBLISH
X-ORIGINAL-URL:https://www.pbsbooks.org
X-WR-CALDESC:Events for PBS Books
REFRESH-INTERVAL;VALUE=DURATION:PT1H
X-Robots-Tag:noindex
X-PUBLISHED-TTL:PT1H
BEGIN:VTIMEZONE
TZID:America/Detroit
BEGIN:DAYLIGHT
TZOFFSETFROM:-0500
TZOFFSETTO:-0400
TZNAME:EDT
DTSTART:20210314T070000
END:DAYLIGHT
BEGIN:STANDARD
TZOFFSETFROM:-0400
TZOFFSETTO:-0500
TZNAME:EST
DTSTART:20211107T060000
END:STANDARD
BEGIN:DAYLIGHT
TZOFFSETFROM:-0500
TZOFFSETTO:-0400
TZNAME:EDT
DTSTART:20220313T070000
END:DAYLIGHT
BEGIN:STANDARD
TZOFFSETFROM:-0400
TZOFFSETTO:-0500
TZNAME:EST
DTSTART:20221106T060000
END:STANDARD
BEGIN:DAYLIGHT
TZOFFSETFROM:-0500
TZOFFSETTO:-0400
TZNAME:EDT
DTSTART:20230312T070000
END:DAYLIGHT
BEGIN:STANDARD
TZOFFSETFROM:-0400
TZOFFSETTO:-0500
TZNAME:EST
DTSTART:20231105T060000
END:STANDARD
END:VTIMEZONE
BEGIN:VEVENT
DTSTART;TZID=America/Detroit:20220120T200000
DTEND;TZID=America/Detroit:20220120T210000
DTSTAMP:20260422T164124
CREATED:20220107T192137Z
LAST-MODIFIED:20220107T192138Z
UID:4412-1642708800-1642712400@www.pbsbooks.org
SUMMARY:Author Talk: Dr. Randal Maurice Jelks\, author of “Letters to Martin: Meditations on Democracy in Black America”
DESCRIPTION:PBS Books\, in partnership with the Association for the Study of African American Life and History (ASALH)\, is pleased to interview Dr. Randal Maurice Jelks\, author of “Letters to Martin: Meditations on Democracy in Black America”. His book contains 12 meditations on contemporary political struggles for our society. The moderator of the conversation will be Venise Wagner. \nWritten in the form of letters to Dr. Martin Luther King\, Jelks will provide insights his work that speaks specifically to the many public issues we presently confront in the United States—economic inequality\, freedom of assembly\, police brutality\, ongoing social class conflicts and geopolitics. Award-winning author Jelks invites readers to reflect on US history by centering on questions of democracy that we must grapple with as a society. \nFollowing the conversation\, there will be an opportunity for questions from audience members on Facebook. \nAbout the Author\nRandal Maurice Jelks is a professor\, a documentary producer and award-winning author. His latest book\, “Letters to Martin: Meditations on Democracy in Black America” (Chicago Review Press\, Jan 11\, 2022) evokes Martin Luther King Jr.’s letter from the Birmingham Jail and contains 12 meditations on many of the public issues currently faced by citizens in the United States —economic inequality\, freedom of assembly\, police brutality\, ongoing social class conflicts\, and geopolitics. \nJelks was an executive producer of the documentary “I\, Too\, Sing America: Langston Hughes Unfurled”\, and he currently teaches American Studies\, African Studies and African American Studies at the University of Kansas. His writings have appeared in the Boston Review and The Los Angeles Review of Books\, and he also serves as co-editor of the academic journal\, “American Studies.” \nAbout the Moderator\nVenise Wagner is professor of journalism at San Francisco State University where she has taught since 2001. She has a 12-year career as a reporter for several California dailies\, including The Orange County Register\, The San Francisco Examiner and Chronicle. She has won awards for her coverage of education and of religion/ethics. She has covered border issues\, religion and ethics\, schools and education\, urban issues and issues in the Bay Area’s various black communities. Venise served as chair of the Journalism Department from January 2008 to January 2013\, a department at the time with 500 students. She has a B.S. in Chemistry from the University of Illinois\, Champaign-Urban and a M.A. in International Policy Studies\, with an emphasis in Latin America from the Middlebury Institute of International Studies at Monterey. \nShe is co-author/co-editor of “Reporting Inequality: Tools and Methods for Covering Race and Ethnicity\,” which was published in 2019 by Routledge. She is working on a forthcoming family memoir that explores the intergenerational impact of structural racism on her family from slavery to the 1970s.
URL:https://www.pbsbooks.org/event/author-talk-dr-randal-maurice-jelks-author-of-letters-to-martin-meditations-on-democracy-in-black-america/
ATTACH;FMTTYPE=image/png:https://www.pbsbooks.org/wp-content/uploads/2022/01/Randal-Jelks.png
END:VEVENT
END:VCALENDAR