BEGIN:VCALENDAR
VERSION:2.0
PRODID:-//PBS Books - ECPv6.15.18//NONSGML v1.0//EN
CALSCALE:GREGORIAN
METHOD:PUBLISH
X-WR-CALNAME:PBS Books
X-ORIGINAL-URL:https://www.pbsbooks.org
X-WR-CALDESC:Events for PBS Books
REFRESH-INTERVAL;VALUE=DURATION:PT1H
X-Robots-Tag:noindex
X-PUBLISHED-TTL:PT1H
BEGIN:VTIMEZONE
TZID:America/Halifax
BEGIN:DAYLIGHT
TZOFFSETFROM:-0400
TZOFFSETTO:-0300
TZNAME:ADT
DTSTART:20210314T060000
END:DAYLIGHT
BEGIN:STANDARD
TZOFFSETFROM:-0300
TZOFFSETTO:-0400
TZNAME:AST
DTSTART:20211107T050000
END:STANDARD
BEGIN:DAYLIGHT
TZOFFSETFROM:-0400
TZOFFSETTO:-0300
TZNAME:ADT
DTSTART:20220313T060000
END:DAYLIGHT
BEGIN:STANDARD
TZOFFSETFROM:-0300
TZOFFSETTO:-0400
TZNAME:AST
DTSTART:20221106T050000
END:STANDARD
BEGIN:DAYLIGHT
TZOFFSETFROM:-0400
TZOFFSETTO:-0300
TZNAME:ADT
DTSTART:20230312T060000
END:DAYLIGHT
BEGIN:STANDARD
TZOFFSETFROM:-0300
TZOFFSETTO:-0400
TZNAME:AST
DTSTART:20231105T050000
END:STANDARD
END:VTIMEZONE
BEGIN:VEVENT
DTSTART;TZID=America/Halifax:20220323T160000
DTEND;TZID=America/Halifax:20220323T170000
DTSTAMP:20260423T022239
CREATED:20220323T135711Z
LAST-MODIFIED:20220323T150004Z
UID:4597-1648051200-1648054800@www.pbsbooks.org
SUMMARY:'Democracy in Crisis' With Barton Gellman
DESCRIPTION:WHEN: Mar 23\, 2022\, 4:00-5:00 pm EDT \nWHERE: This event is virtual. \nWHAT: Democracy in Crisis series with the Ford School. \nPulitzer Prize winning journalist and author Barton Gellman in conversation with Michigan Law Professor from Practice Barbara McQuade\, as part of the spring 2022 Democracy in Crisis series. \nBarton Gellman is the author of multiple books including Dark Mirror. \n REGISTER HERE
URL:https://www.pbsbooks.org/event/democracy-in-crisis-with-barton-gellman/
CATEGORIES:Ford Policy Talks
ATTACH;FMTTYPE=image/jpeg:https://www.pbsbooks.org/wp-content/uploads/2022/03/1920x1080-27.jpg
END:VEVENT
BEGIN:VEVENT
DTSTART;TZID=America/Halifax:20220323T200000
DTEND;TZID=America/Halifax:20220323T210000
DTSTAMP:20260423T022239
CREATED:20220309T231754Z
LAST-MODIFIED:20220309T231754Z
UID:4529-1648065600-1648069200@www.pbsbooks.org
SUMMARY:Trailblazer: Poetry\, Celebrating Robert Frost's Birthday
DESCRIPTION:Wednesday\, March 23 at 8pm ET | 5pm PT\, PBS Books\, in partnership with Poetry In America and the Association for the Study of African American Life and History (ASALH)\, is pleased to present a conversation with poet Tracy K. Smith\, in conversation with Poetry In America Executive Producer and Creator Elisa New\, discussing Robert Frost’s “Mending Wall” in honor of his birthday. \nDo good fences really make good neighbors? Robert Frost’s “Mending Wall” asks surprising questions about the role of walls in civil society. Poetry In America’s Host Elisa New and former U.S. Poet Laureate Tracy K. Smith will delve into this classic poem. \n  \nAbout the Poet: Tracy K. Smith\nTracy K. Smith is a Pulitzer Prize-winning poet\, memoirist\, translator and librettist. She served as Poet Laureate of the United States from 2017-19. Her most recent book is Such Color: New and Selected Poems. She teaches at Harvard University \n  \nAbout the Moderator: Elisa New\nElisa New is the Director and Host of Poetry in America\, director of the Center of Public Humanities at Arizona State University\, director of Verse Video Education\, and Powell M. Cabot Professor of American Literature at Harvard University. New created Poetry in America\, a PBS series\, to bring poetry into living rooms and onto screens of all kinds. The show can be seen on public television and streaming platforms\, in schools and libraries\, and on airlines. Guests include Joe Biden\, Herbie Hancock\, Gloria Estefan\, Shaquille O’Neal\, Elena Kagan\, Nas\, John McCain\, Sonia Sanchez\, Tony Kushner\, Bill Clinton\, Julia Alvarez\, Bono\, Cynthia Nixon\, John Kerry\, LisaGay Hamilton\, Caroline Kennedy\, Katie Couric\, Al Gore\, and David Strathairn. Along with the series\, New produces educational materials on American poetry for all ages—from middle- and high-school students\, to K-12 teachers\, to lifelong learners—distributed by Harvard University\, Amplify Education\, and Arizona State University. \n  \nAbout Poetry In America \nPoetry in America\, created and directed by Harvard professor Elisa New\, is a public television series and multi-platform educational initiative that brings the highest quality humanities content to diverse audiences around the world. \nPoetry in America for-credit courses\, non-credit learning experiences\, and professional development opportunities—including programming designed specifically for high-school students and K-12 teachers—are available in partnership with Arizona State University and Harvard. The Poetry in America series is presented by GBH Boston and distributed by PBS Plus and American Public Television. Season One aired nationally in 2018. Season Two aired in April 2020\, and Season Three will premiere in January 2022. \n  \nFunder information \nSupport for the television series Poetry in America is provided by the National Endowment for the Humanities\, Dalio Philanthropies\, the Alfred P. Sloan Foundation\, the Poetry Foundation\, Deborah Hayes Stone and Max Stone. \nAny views\, findings\, conclusions\, or recommendations expressed in this program do not necessarily represent those of the National Endowment for the Humanities. \n 
URL:https://www.pbsbooks.org/event/trailblazer-poetry-celebrating-robert-frosts-birthday/
ATTACH;FMTTYPE=image/png:https://www.pbsbooks.org/wp-content/uploads/2022/03/Smith-New_1200x630-2.png
END:VEVENT
END:VCALENDAR