BEGIN:VCALENDAR
VERSION:2.0
PRODID:-//PBS Books - ECPv6.15.18//NONSGML v1.0//EN
CALSCALE:GREGORIAN
METHOD:PUBLISH
X-ORIGINAL-URL:https://www.pbsbooks.org
X-WR-CALDESC:Events for PBS Books
REFRESH-INTERVAL;VALUE=DURATION:PT1H
X-Robots-Tag:noindex
X-PUBLISHED-TTL:PT1H
BEGIN:VTIMEZONE
TZID:America/Detroit
BEGIN:DAYLIGHT
TZOFFSETFROM:-0500
TZOFFSETTO:-0400
TZNAME:EDT
DTSTART:20230312T070000
END:DAYLIGHT
BEGIN:STANDARD
TZOFFSETFROM:-0400
TZOFFSETTO:-0500
TZNAME:EST
DTSTART:20231105T060000
END:STANDARD
BEGIN:DAYLIGHT
TZOFFSETFROM:-0500
TZOFFSETTO:-0400
TZNAME:EDT
DTSTART:20240310T070000
END:DAYLIGHT
BEGIN:STANDARD
TZOFFSETFROM:-0400
TZOFFSETTO:-0500
TZNAME:EST
DTSTART:20241103T060000
END:STANDARD
BEGIN:DAYLIGHT
TZOFFSETFROM:-0500
TZOFFSETTO:-0400
TZNAME:EDT
DTSTART:20250309T070000
END:DAYLIGHT
BEGIN:STANDARD
TZOFFSETFROM:-0400
TZOFFSETTO:-0500
TZNAME:EST
DTSTART:20251102T060000
END:STANDARD
END:VTIMEZONE
BEGIN:VEVENT
DTSTART;TZID=America/Detroit:20240315T200000
DTEND;TZID=America/Detroit:20240315T210000
DTSTAMP:20260418T123200
CREATED:20240306T150057Z
LAST-MODIFIED:20240306T150057Z
UID:9058-1710532800-1710536400@www.pbsbooks.org
SUMMARY:Artemío Rodriguez | The Penny Stamps Distinguished Speaker Series
DESCRIPTION:This speaker event was recorded live on Thursday\, March 7\, 2024 at 5:30 pm at the Michigan Theater\, Ann Arbor\, MI. \nArtemio Rodríguez is a Mexican artist who was born in Tacámbaro\, Michoacán. He began his career as a printer’s apprentice with Juan Pascoe at his renowned letterpress studio Taller Martin Pescador (Kingfisher Workshop) in Tacámbaro\, Michoacán. At the age of 21\, Rodríguez immigrated to Los Angeles and became a printmaker at Self Help Graphics. He co-founded La Mano Press in 2002 in Los Angeles before relocating to Michoacán in 2008\, where he co-founded La Mano Gráfica\, a gallery and craft store. Rodríguez directs the Library of Illustrated Books (Biblioteca del Libro Ilustrado\, BLI)\, where his many public projects include The Bibliográfico\, a 1977 Toyota converted into a traveling library\, and the Graficomovil\, a 1948 delivery truck converted into a gallery and printmaking studio. \nRodríguez is known for his linocut prints as well as his mural-sized prints and for his vehicles. Influenced by both European medieval woodcuts and Mexican cultural symbolism developed by artists like José Guadalupe Posada\, Rodríguez’s style emphasizes simplicity\, clarity\, and imbued with a personal narrative. His images come from contemporary icons like American cartoons and Mexican culture\, mythology and surrealism. A poet at heart\, Rodríguez uses the physicality of the printmaking process to write stories in images. His work has been exhibited internationally and is in the collections of many public institutions\, including the Seattle Art Museum\, Los Angeles County Museum of Art\, Hammer Museum\, Petersen Automotive Museum\, Library of Congress\, Phoenix Art Museum and Museo José Guadalupe Posada. A retrospective look of his works can be seen in the book American Dream. \nLearn More>> \n\n\nThe Penny Stamps Distinguished Speaker Series Spring 2024 Season\nThis spring\, the Penny Stamps Distinguished Speaker Series brings respected leaders and innovators from a broad spectrum of creative fields to Ann Arbor’s historic Michigan Theater for weekly in-person events. \nDetroit Public Television and PBS Books\, in partnership with the Stamps School\, will stream each week’s event Fridays at 8pm. \nSee the full schedule of events livestreamed by PBS Books here. \nSome programs may not be available online\, depending on artist requests. Interested in receiving notifications before online videos go live? Sign up to receive a reminder before each event begins streaming. \nWatch Past Penny Stamps Episodes
URL:https://www.pbsbooks.org/event/artemio-rodriguez-penny-stamps-distinguished-speaker-series/
ATTACH;FMTTYPE=image/png:https://www.pbsbooks.org/wp-content/uploads/2024/03/5.png
END:VEVENT
END:VCALENDAR