BEGIN:VCALENDAR
VERSION:2.0
PRODID:-//PBS Books - ECPv6.15.18//NONSGML v1.0//EN
CALSCALE:GREGORIAN
METHOD:PUBLISH
X-ORIGINAL-URL:https://www.pbsbooks.org
X-WR-CALDESC:Events for PBS Books
REFRESH-INTERVAL;VALUE=DURATION:PT1H
X-Robots-Tag:noindex
X-PUBLISHED-TTL:PT1H
BEGIN:VTIMEZONE
TZID:America/Detroit
BEGIN:DAYLIGHT
TZOFFSETFROM:-0500
TZOFFSETTO:-0400
TZNAME:EDT
DTSTART:20230312T070000
END:DAYLIGHT
BEGIN:STANDARD
TZOFFSETFROM:-0400
TZOFFSETTO:-0500
TZNAME:EST
DTSTART:20231105T060000
END:STANDARD
BEGIN:DAYLIGHT
TZOFFSETFROM:-0500
TZOFFSETTO:-0400
TZNAME:EDT
DTSTART:20240310T070000
END:DAYLIGHT
BEGIN:STANDARD
TZOFFSETFROM:-0400
TZOFFSETTO:-0500
TZNAME:EST
DTSTART:20241103T060000
END:STANDARD
BEGIN:DAYLIGHT
TZOFFSETFROM:-0500
TZOFFSETTO:-0400
TZNAME:EDT
DTSTART:20250309T070000
END:DAYLIGHT
BEGIN:STANDARD
TZOFFSETFROM:-0400
TZOFFSETTO:-0500
TZNAME:EST
DTSTART:20251102T060000
END:STANDARD
END:VTIMEZONE
BEGIN:VEVENT
DTSTART;TZID=America/Detroit:20240821T200000
DTEND;TZID=America/Detroit:20240821T210000
DTSTAMP:20260422T205746
CREATED:20240702T195455Z
LAST-MODIFIED:20240820T195151Z
UID:10152-1724270400-1724274000@www.pbsbooks.org
SUMMARY:"Music and Mind" by Renée Fleming - Library of Congress National Book Festival 2024
DESCRIPTION:LOC National Book Festival 2024 \nEpisode Description:\nIn partnership with WETA and other local PBS stations\, PBS Books Heather-Marie Montilla is joined by World-Renowned Soprano and Arts/Health Advocate\, Renée Fleming to discuss her latest book “Music and Mind” as the 2024 Library of Congress National Book Festival author featured this week by PBS Books. \nA compelling and growing body of research has shown music and arts therapies to be effective tools for addressing a widening array of conditions\, including providing pain relief\, alleviating anxiety and depression\, regaining speech after stroke or traumatic brain injury\, and improving mobility for people with disorders that include Parkinson’s disease and MS. “Music and Mind” is a groundbreaking book\, the perfect introduction and overview of this exciting new field. \nThe 24th annual Library of Congress National Book Festival will be held at the Walter E. Washington Convention Center in Washington\, D.C.\, on Saturday\, August 24\, from 9 a.m. to 8 p.m. The event is free and open to the public. \nAbout the Book:\nA compelling and growing body of research has shown music and arts therapies to be effective tools for addressing a widening array of conditions\, from providing pain relief and alleviating anxiety and depression to regaining speech after stroke or traumatic brain injury\, and improving mobility for people with disorders that include Parkinson’s disease and MS. \nIn Music and Mind Renée Fleming draws upon her own experience as an advocate to showcase the breadth of this booming field\, inviting leading experts to share their discoveries. In addition to describing therapeutic benefits\, the book explores evolution\, brain function\, childhood development\, and technology as applied to arts and health. \nMuch of this area of study is relatively new\, made possible by recent advances in brain imaging\, and supported by the National Institutes of Health\, major hospitals\, and universities. This work is sparking an explosion of public interest in the arts and health sector. \nFleming has presented on this material in over fifty cities across North America\, Europe\, and Asia\, collaborating with leading researchers\, policy-makers\, and practitioners. With essays from notable musicians\, writers\, and artists\, as well as leading neuroscientists\, Music and Mind is a groundbreaking book\, the perfect introduction and overview of this exciting new field. \nGuest Biography:\nRenée Fleming\nRenée Fleming is an acclaimed soprano and health/arts advocate who has performed at events ranging from the Nobel Peace Prize ceremony to the Super Bowl. She has received many honors and awards\, including five Grammys\, the National Medal of Arts and a Fulbright Lifetime Achievement Award. A prominent advocate for research at the intersection of the arts\, health and neuroscience\, Fleming serves as an artistic advisor to the Kennedy Center for the Performing Arts\, where she launched the first ongoing collaboration between the Kennedy Center and the National Institutes of Health. She is also a 2023 Kennedy Center Honoree and serves as a World Health Organization goodwill ambassador for arts and health. Fleming is the editor of the new essay collection\, “Music and Mind: Harnessing the Arts for Health and Wellness\,” which is featured at the 2024 National Book Festival.
URL:https://www.pbsbooks.org/event/loc-bookfest-2024-fleming/
ATTACH;FMTTYPE=image/png:https://www.pbsbooks.org/wp-content/uploads/2024/06/LOC24-PBS_Renee-Fleming_WETA.png
END:VEVENT
END:VCALENDAR