BEGIN:VCALENDAR
VERSION:2.0
PRODID:-//PBS Books - ECPv6.15.18//NONSGML v1.0//EN
CALSCALE:GREGORIAN
METHOD:PUBLISH
X-ORIGINAL-URL:https://www.pbsbooks.org
X-WR-CALDESC:Events for PBS Books
REFRESH-INTERVAL;VALUE=DURATION:PT1H
X-Robots-Tag:noindex
X-PUBLISHED-TTL:PT1H
BEGIN:VTIMEZONE
TZID:America/Detroit
BEGIN:DAYLIGHT
TZOFFSETFROM:-0500
TZOFFSETTO:-0400
TZNAME:EDT
DTSTART:20230312T070000
END:DAYLIGHT
BEGIN:STANDARD
TZOFFSETFROM:-0400
TZOFFSETTO:-0500
TZNAME:EST
DTSTART:20231105T060000
END:STANDARD
BEGIN:DAYLIGHT
TZOFFSETFROM:-0500
TZOFFSETTO:-0400
TZNAME:EDT
DTSTART:20240310T070000
END:DAYLIGHT
BEGIN:STANDARD
TZOFFSETFROM:-0400
TZOFFSETTO:-0500
TZNAME:EST
DTSTART:20241103T060000
END:STANDARD
BEGIN:DAYLIGHT
TZOFFSETFROM:-0500
TZOFFSETTO:-0400
TZNAME:EDT
DTSTART:20250309T070000
END:DAYLIGHT
BEGIN:STANDARD
TZOFFSETFROM:-0400
TZOFFSETTO:-0500
TZNAME:EST
DTSTART:20251102T060000
END:STANDARD
END:VTIMEZONE
BEGIN:VEVENT
DTSTART;TZID=America/Detroit:20240828T200000
DTEND;TZID=America/Detroit:20240828T210000
DTSTAMP:20260422T205752
CREATED:20240807T191010Z
LAST-MODIFIED:20250731T184850Z
UID:10252-1724875200-1724878800@www.pbsbooks.org
SUMMARY:PBS Books Readers Club - "The Hunter" by Tana French
DESCRIPTION:Readers Club HomeEpisodes \nEpisode Description:\nThe PBS Books Readers Club Welcomes Bestselling Irish Crime Fiction Writer Tana French to discuss her books The Searcher and The Hunter. \nFrom the New York Times bestselling author of The Searcher and “one of the greatest crime novelists writing today” (VOX)\, comes a spellbinding new tale set in the Irish countryside. \nIt’s a blazing summer when two men arrive in a small village in the West of Ireland. One of them is coming home. Both of them are coming to get rich. One of them is coming to die. \nFans of PBS crime dramas D.I. Ray and Grantchester will be drawn into this nuanced\, atmospheric tale that explores what we’ll do for our loved ones\, what we’ll do for revenge\, and what we sacrifice when the two collide. \nDon’t miss the PBS Books Readers Club on August 28 at 8:00 pm (ET) as Tana French shares her inspiration behind her novels\, her writing process\, favorite books\, and more. \nAbout the Books:\nGet the E-BookDONATE NOW and download your e-book copy. \n\n“Hailed as the queen of Irish crime fiction\, French spins a taut tale of retribution\, sacrifice\, and family.”—TIME\n\nIt’s a blazing summer when two men arrive in a small village in the West of Ireland. One of them is coming home. Both of them are coming to get rich. One of them is coming to die. \nCal Hooper took early retirement from Chicago PD and moved to rural Ireland looking for peace. He’s found it\, more or less: he’s built a relationship with a local woman\, Lena\, and he’s gradually turning Trey Reddy from a half-feral teenager into a good kid going good places. But then Trey’s long-absent father reappears\, bringing along an English millionaire and a scheme to find gold in the townland\, and suddenly everything the three of them have been building is under threat. Cal and Lena are both ready to do whatever it takes to protect Trey\, but Trey doesn’t want protecting. What she wants is revenge. \nFrom the writer who is “in a class by herself\,” (The New York Times)\, a nuanced\, atmospheric tale that explores what we’ll do for our loved ones\, what we’ll do for revenge\, and what we sacrifice when the two collide. \n\nGet the E-BookDONATE NOW and download your e-book copy. \n\n“This hushed suspense tale about thwarted dreams of escape may be her best one yet . . . Its own kind of masterpiece.” –Maureen Corrigan\, The Washington Post \n“A new Tana French is always cause for celebration . . . Read it once for the plot; read it again for the beauty and subtlety of French’s writing.” –Sarah Lyall\, The New York Times \nCal Hooper thought a fixer-upper in a bucolic Irish village would be the perfect escape. After twenty-five years in the Chicago police force and a bruising divorce\, he just wants to build a new life in a pretty spot with a good pub where nothing much happens. But when a local kid whose brother has gone missing arm-twists him into investigating\, Cal uncovers layers of darkness beneath his picturesque retreat\, and starts to realize that even small towns shelter dangerous secrets. \n“One of the greatest crime novelists writing today” (Vox) weaves a masterful\, atmospheric tale of suspense\, asking how to tell right from wrong in a world where neither is simple\, and what we stake on that decision. \n\nGuest Biography:\nTana French\nTana French is the New York Times bestselling author of nine books\, including In the Woods\, The Likeness\, and The Searcher. Her novels have sold over eight million copies worldwide and won numerous awards\, including the Edgar\, Anthony\, Macavity\, and Barry awards\, the Los Angeles Times Book Prize for Best Mystery/Thriller\, and the Irish Book Award for Crime Fiction. She lives in Dublin with her family. \nReaders Club Hosts:\nHeather Marie Montilla\nHeather-Marie Montilla\, a dynamic integrative leader\, is an educator and nonprofit manager. She has worked in the nonprofit sector and libraries for over two decades\, making a positive impact in arts\, cultural\, educational\, and community-building arenas. \nHaving joined the PBS Books team as their Library Bureau Chief in Fall 2018\, Montilla is now the National Director of PBS Books and has interviewed more than 150 writers. In addition\, she is a faculty member at Michigan State University and Eastern Michigan University for their Arts and Cultural/Entertainment Management Programs. Having been an Executive Director for 8 years\, Heather has a wide range of experience in management\, finance\, strategic planning\, marketing\, and fundraising. Heather holds a MPA From Columbia University\, a MLIS from Wayne State University\, and a bachelor’s from Duke University. She lives in Chicagoland\, and is married with four children\, a dog\, and a bird. \nPrincess Weekes\nPrincess Weekes is an award winning writer and video essayist who works at breaking down the intersections between race\, gender\, and pop culture. Formally an Assistant Editor at The Mary Sue\, co-host of Netflix’s The Geeked Podcast\, and co-host and co-writer on the PBS Digital Series It’s Lit. On weekends she works as a bookseller at a local bookstore. When not reading or writing she can be found playing TTRPGs of cuddling with her cat\, Lola. \nLauren Smith\nExecutive Producer and host of national PBS programming at Detroit Public TV\, Lauren develops content for PBS and other distributors of public media for broadcast\, streaming\, and other digital channels and has executive-produced and/or produced over 60 national broadcast and programs. Her passion is to develop inspiring\, entertaining\, and educational content alongside the best national and international talent\, and to engage important content with communities across the country. Lauren loves to read and has worked to develop and produce PBS Books content for nearly ten years! \nFred Nahhat \nFred Nahhat is an Emmy Award-winning producer\, host\, and presenter for Detroit’s PBS station\, where he serves as Sr. VP of Production. A 30-year broadcast veteran\, Fred has hosted and produced numerous programs for Public TV – including music specials from Il Volo\, Celtic Gold and the New Divas – as well as other series and specials “New Year’s Eve with the DSO”\, “The Detroit Dream Cruise\,” “The PBS Books Readers Club” and “Get Up\, Get Out\,” among others. \nHe is a graduate of Wayne State University and a member of the National Academy of Television Arts and Sciences Michigan Chapter\, USA Hockey\, and Leadership Detroit.
URL:https://www.pbsbooks.org/event/readers-club-108/
ATTACH;FMTTYPE=image/png:https://www.pbsbooks.org/wp-content/uploads/2024/08/PBOOKS-Tana-French-1280x720_VOD.png
END:VEVENT
END:VCALENDAR