BEGIN:VCALENDAR
VERSION:2.0
PRODID:-//PBS Books - ECPv6.15.18//NONSGML v1.0//EN
CALSCALE:GREGORIAN
METHOD:PUBLISH
X-WR-CALNAME:PBS Books
X-ORIGINAL-URL:https://www.pbsbooks.org
X-WR-CALDESC:Events for PBS Books
REFRESH-INTERVAL;VALUE=DURATION:PT1H
X-Robots-Tag:noindex
X-PUBLISHED-TTL:PT1H
BEGIN:VTIMEZONE
TZID:America/Detroit
BEGIN:DAYLIGHT
TZOFFSETFROM:-0500
TZOFFSETTO:-0400
TZNAME:EDT
DTSTART:20230312T070000
END:DAYLIGHT
BEGIN:STANDARD
TZOFFSETFROM:-0400
TZOFFSETTO:-0500
TZNAME:EST
DTSTART:20231105T060000
END:STANDARD
BEGIN:DAYLIGHT
TZOFFSETFROM:-0500
TZOFFSETTO:-0400
TZNAME:EDT
DTSTART:20240310T070000
END:DAYLIGHT
BEGIN:STANDARD
TZOFFSETFROM:-0400
TZOFFSETTO:-0500
TZNAME:EST
DTSTART:20241103T060000
END:STANDARD
BEGIN:DAYLIGHT
TZOFFSETFROM:-0500
TZOFFSETTO:-0400
TZNAME:EDT
DTSTART:20250309T070000
END:DAYLIGHT
BEGIN:STANDARD
TZOFFSETFROM:-0400
TZOFFSETTO:-0500
TZNAME:EST
DTSTART:20251102T060000
END:STANDARD
END:VTIMEZONE
BEGIN:VEVENT
DTSTART;TZID=America/Detroit:20241211T200000
DTEND;TZID=America/Detroit:20241211T210000
DTSTAMP:20260422T130411
CREATED:20241205T164402Z
LAST-MODIFIED:20250130T170037Z
UID:10704-1733947200-1733950800@www.pbsbooks.org
SUMMARY:Our Favorite Books of the Year
DESCRIPTION:Join hosts Lauren\, Fred\, Princess and Heather as they reminisce the exciting first season of the PBS Books Readers Club! They’ll highlight the most incredible author moments and fascinating reads from the series this year that were heartfelt\, funny\, and inspiring! Plus\, hosts dish out their favorite book picks for 2024 — providing readers with an ultimate gift guide for the holiday season! \nThis year’s book picks explored an array of genres\, from historical fiction (Geraldine Brooks\, Horse)\, suspense (Tana French\, The Hunter)\, American history and religion (Henry Louis Gates\, Jr.\, The Black Church: This Is Our Story\, This Is Our Song)\, biography (Walter Isaacson\, Leonardo da Vinci)\, family drama (Rachel Khong\, Real Americans)\, and modern classics (Percival Everett\, James). \nMore than a book club\, the monthly episodes complement the PBS mission to educate\, inspire\, entertain and express a diversity of perspectives—often pairing author conversations that align with beloved PBS shows\, including Masterpiece® dramas (Robert Thorogood\, The Marlow Murder Club)\, American Masters profiles (Julia Alvarez\, The Cemetery of Untold Stories)\, and exciting series\, like The Great American Recipe which harmonized with Olivia Ford’s baking-driven coming-of-old-age novel\, Mrs. Quinn’s Rise to Fame. \nDon’t miss the season finale of the PBS Books Readers Club on December 11 at 8 PM (ET) to celebrate the writers and creatives works explored this year\, and reminisce the most heartfelt\, funny\, and inspiring author moments—plus get a jump-start on holiday gifting ideas for the book lover on your list\, as hosts share their top reads of 2024!
URL:https://www.pbsbooks.org/event/our-favorite-books-of-the-year/
ATTACH;FMTTYPE=image/png:https://www.pbsbooks.org/wp-content/uploads/2024/12/PBOOKS-FAV-BOOKS-1280x720_VOD.png
END:VEVENT
END:VCALENDAR