BEGIN:VCALENDAR
VERSION:2.0
PRODID:-//PBS Books - ECPv6.15.18//NONSGML v1.0//EN
CALSCALE:GREGORIAN
METHOD:PUBLISH
X-ORIGINAL-URL:https://www.pbsbooks.org
X-WR-CALDESC:Events for PBS Books
REFRESH-INTERVAL;VALUE=DURATION:PT1H
X-Robots-Tag:noindex
X-PUBLISHED-TTL:PT1H
BEGIN:VTIMEZONE
TZID:America/Detroit
BEGIN:DAYLIGHT
TZOFFSETFROM:-0500
TZOFFSETTO:-0400
TZNAME:EDT
DTSTART:20240310T070000
END:DAYLIGHT
BEGIN:STANDARD
TZOFFSETFROM:-0400
TZOFFSETTO:-0500
TZNAME:EST
DTSTART:20241103T060000
END:STANDARD
BEGIN:DAYLIGHT
TZOFFSETFROM:-0500
TZOFFSETTO:-0400
TZNAME:EDT
DTSTART:20250309T070000
END:DAYLIGHT
BEGIN:STANDARD
TZOFFSETFROM:-0400
TZOFFSETTO:-0500
TZNAME:EST
DTSTART:20251102T060000
END:STANDARD
BEGIN:DAYLIGHT
TZOFFSETFROM:-0500
TZOFFSETTO:-0400
TZNAME:EDT
DTSTART:20260308T070000
END:DAYLIGHT
BEGIN:STANDARD
TZOFFSETFROM:-0400
TZOFFSETTO:-0500
TZNAME:EST
DTSTART:20261101T060000
END:STANDARD
END:VTIMEZONE
BEGIN:VEVENT
DTSTART;TZID=America/Detroit:20250423T200000
DTEND;TZID=America/Detroit:20250423T210000
DTSTAMP:20260422T064146
CREATED:20250324T184433Z
LAST-MODIFIED:20250425T143136Z
UID:11436-1745438400-1745442000@www.pbsbooks.org
SUMMARY:A Conversation on Free for All: The Public Library
DESCRIPTION:Join PBS Books for an enlightening conversation exploring the transformative power of public libraries in America. This special event\, created to support the upcoming Independent Lens film Free for All: The Public Library\, features an in-depth discussion with filmmakers Dawn Logsdon and Lucie Faulknor\, as well as a thought-provoking conversation with Cindy Hohl\, President of the American Library Association. \nFilmmakers Logsdon and Faulknor offer a behind-the-scenes look at their documentary\, which traces the evolution of public libraries from their revolutionary beginnings to their role today as essential pillars of democracy\, education\, and community support. Inspired by the heroic efforts of librarians during Hurricane Katrina\, the film examines the historic and ongoing challenges facing libraries\, from budget cuts to book bans\, while celebrating their resilience and continued relevance. \nAdditionally\, Cindy Hohl provides expert insight into the current state of America’s libraries\, the fight for the Freedom to Read\, and the critical role libraries play in fostering inclusion\, knowledge\, and civic engagement. \nHosted by Heather-Marie Montilla\, this PBS Books event will also feature the official film trailer for Free for All: The Public Library\, offering viewers an exclusive preview of this inspiring documentary. \nWhere to Watch: Tune in live on Facebook\, YouTube\, and the PBS app \nDon’t miss this engaging conversation about the past\, present\, and future of America’s public libraries. \nAbout the Host\n\nHeather-Marie Montilla \nHeather-Marie Montilla\, a dynamic integrative leader\, is an educator and nonprofit manager. She has worked in the nonprofit sector and libraries for over two decades\, making a positive impact in arts\, cultural\, educational\, and community-building arenas. \nHaving joined the PBS Books team as their Library Bureau Chief in Fall 2018\, Montilla is now the National Director of PBS Books and has interviewed more than 150 writers. In addition\, she is a faculty member at Michigan State University and Eastern Michigan University for their Arts and Cultural/Entertainment Management Programs. Having been an Executive Director for 8 years\, Heather has a wide range of experience in management\, finance\, strategic planning\, marketing\, and fundraising. Heather holds a MPA From Columbia University\, a MLIS from Wayne State University\, and a bachelor’s from Duke University. She lives in Chicagoland\, and is married with four children\, a dog\, and a bird. \n\nAbout the Guests\n\nLucie Faulkor \nLucie Faulknor is an arts management and documentary film professional. Founder at Serendipity Films\, LLC\, she produced the award-winning documentary Faubourg Tremé: The Untold Story of Black New Orleans. Lucie has worked with SFJAZZ\, City Arts & Lectures\, Dublin Fringe Festival\, and more. She holds a Master of Nonprofit Administration. \n\n\nDawn Logsdon \nDawn Logsdon produced\, directed\, and edited Faubourg Tremé: The Untold Story of Black New Orleans\, and co-directed Big Joy: The Adventures of James Broughton. Her editing credits include Jacques Pepin: The Art of Craft\, The Weather Underground\, Paragraph 175\, The Castro\, The Vanishing Line\, and Have You Heard From Johannesburg among others. \n\n\nCindy Hohl\nPresident\, American Library Association \nCindy Hohl\, director of policy analysis and operational support at Kansas City (Mo.) Public Library is the 2024-2025 president of the American Library Association (ALA). \nHohl is past president of the American Indian Library Association and is an active member of other ALA affiliates\, including the Asian/Pacific American Librarians Association\, Black Caucus of ALA\, Chinese American Librarians Association\, and REFORMA: The National Association to Promote Library and Information Services to Latinos and the Spanish-Speaking. Hohl is also a member of several round tables: Intellectual Freedom Round Table\, Library Research Round Table\, and Social Responsibilities Round Table. \nHohl holds a Bachelor of Science in Organization Management and Leadership from Friends University\, a Master of Library and Information Science from Wayne State University\, and a Master of Business Administration from Baker University.
URL:https://www.pbsbooks.org/event/independent-lens-free-for-all/
ATTACH;FMTTYPE=image/png:https://www.pbsbooks.org/wp-content/uploads/2025/03/FREE-FOR-ALL-1280x720-1-1.png
END:VEVENT
END:VCALENDAR