BEGIN:VCALENDAR
VERSION:2.0
PRODID:-//PBS Books - ECPv6.15.18//NONSGML v1.0//EN
CALSCALE:GREGORIAN
METHOD:PUBLISH
X-WR-CALNAME:PBS Books
X-ORIGINAL-URL:https://www.pbsbooks.org
X-WR-CALDESC:Events for PBS Books
REFRESH-INTERVAL;VALUE=DURATION:PT1H
X-Robots-Tag:noindex
X-PUBLISHED-TTL:PT1H
BEGIN:VTIMEZONE
TZID:America/Detroit
BEGIN:DAYLIGHT
TZOFFSETFROM:-0500
TZOFFSETTO:-0400
TZNAME:EDT
DTSTART:20240310T070000
END:DAYLIGHT
BEGIN:STANDARD
TZOFFSETFROM:-0400
TZOFFSETTO:-0500
TZNAME:EST
DTSTART:20241103T060000
END:STANDARD
BEGIN:DAYLIGHT
TZOFFSETFROM:-0500
TZOFFSETTO:-0400
TZNAME:EDT
DTSTART:20250309T070000
END:DAYLIGHT
BEGIN:STANDARD
TZOFFSETFROM:-0400
TZOFFSETTO:-0500
TZNAME:EST
DTSTART:20251102T060000
END:STANDARD
BEGIN:DAYLIGHT
TZOFFSETFROM:-0500
TZOFFSETTO:-0400
TZNAME:EDT
DTSTART:20260308T070000
END:DAYLIGHT
BEGIN:STANDARD
TZOFFSETFROM:-0400
TZOFFSETTO:-0500
TZNAME:EST
DTSTART:20261101T060000
END:STANDARD
END:VTIMEZONE
BEGIN:VEVENT
DTSTART;TZID=America/Detroit:20250528T200000
DTEND;TZID=America/Detroit:20250528T210000
DTSTAMP:20260417T171543
CREATED:20250425T174124Z
LAST-MODIFIED:20260221T210526Z
UID:12043-1748462400-1748466000@www.pbsbooks.org
SUMMARY:PBS Books Readers Club - "We All Live Here" by Jojo Moyes
DESCRIPTION:PBS Books Readers Club welcomes international and New York Times best-selling author Jojo Moyes to discuss her brand-new novel We All Live Here. This episode premieres May 28th at 8PM ET on Facebook\, YouTube\, and the PBS app. \nLila Kennedy’s life is in chaos. Her marriage is over\, her two daughters are acting out\, her house is falling apart\, and her elderly stepfather seems to have moved in. She is struggling to maintain some semblance of a career\, and her love life is anything but simple. So\, when her estranged father- who vanished to Hollywood 35 years ago- shows up at her house\, Lila thinks she can’t take any more. However\, Lila soon discovers that even the most complicated relationships can teach you profound lessons about love and what it truly means to be family. \nWe All Live Here is a heartfelt\, funny\, messy family drama that is full of surprises. It’s a reminder that even the family we think we can’t forgive may have something to teach us about love. \nPBS Watch-Alike: Caregiving\nThis new documentary executive produced by Bradley Cooper is set to premiere on PBS on June 24th at 9p.m. ET. As the aging baby boomer generation and increasing life expectancy put immense pressure on caregiving in America\, the nation’s long-term care system is on the brink of crisis. This film humanizes this pressing national issue by sharing stories from caregivers and featuring interviews with experts who are working tirelessly to ensure that caregivers receive the security and support they so selflessly offer to others. \n About the AuthorJojo Moyes \nJojo Moyes is a #1 New York Times bestselling novelist and screenwriter whose beloved books have captivated readers around the world. Her works include the global bestseller Me Before You\, along with its sequels After You and Still Me\, as well as The Giver of Stars\, Someone Else’s Shoes\, The One Plus One\, and the short story collection Paris for One and Other Stories. Her novels have been translated into 46 languages\, have topped charts in 12 countries\, and have sold over 57 million copies worldwide. Me Before You alone has sold more than 15 million copies and was adapted into a major motion picture starring Emilia Clarke and Sam Claflin. \nJojo’s work has been featured in Reese Witherspoon’s Book Club and the Richard and Judy Book Club. She is also part of the BBC Maestro platform\, where she teaches a course on Writing Love Stories. In addition to her fiction\, Moyes is an accomplished screenwriter and a former journalist. She lives in London\, England. \n About the Hosts\nPrincess Weekes\nPrincess Weekes is an award winning writer and video essayist who works at breaking down the intersections between race\, gender\, and pop culture. Formally an Assistant Editor at The Mary Sue\, co-host of Netflix’s The Geeked Podcast\, and co-host and co-writer on the PBS Digital Series It’s Lit. On weekends she works as a bookseller at a local bookstore. When not reading or writing she can be found playing TTRPGs of cuddling with her cat\, Lola. \n\n\nLauren Smith\nExecutive Producer and host of national PBS programming at Detroit PBS\, Lauren develops content for PBS and other distributors of public media for broadcast\, streaming\, and other digital channels and has executive-produced and/or produced over 60 national broadcast and programs. Her passion is to develop inspiring\, entertaining\, and educational content alongside the best national and international talent\, and to engage important content with communities across the country. Lauren loves to read and has worked to develop and produce PBS Books content for nearly ten years!
URL:https://www.pbsbooks.org/event/readers-club-205/
ATTACH;FMTTYPE=image/png:https://www.pbsbooks.org/wp-content/uploads/2025/04/PBOOKS-Jojo-Moyes-1280x720_VOD_2.png
END:VEVENT
END:VCALENDAR