BEGIN:VCALENDAR
VERSION:2.0
PRODID:-//PBS Books - ECPv6.15.18//NONSGML v1.0//EN
CALSCALE:GREGORIAN
METHOD:PUBLISH
X-WR-CALNAME:PBS Books
X-ORIGINAL-URL:https://www.pbsbooks.org
X-WR-CALDESC:Events for PBS Books
REFRESH-INTERVAL;VALUE=DURATION:PT1H
X-Robots-Tag:noindex
X-PUBLISHED-TTL:PT1H
BEGIN:VTIMEZONE
TZID:America/Detroit
BEGIN:DAYLIGHT
TZOFFSETFROM:-0500
TZOFFSETTO:-0400
TZNAME:EDT
DTSTART:20240310T070000
END:DAYLIGHT
BEGIN:STANDARD
TZOFFSETFROM:-0400
TZOFFSETTO:-0500
TZNAME:EST
DTSTART:20241103T060000
END:STANDARD
BEGIN:DAYLIGHT
TZOFFSETFROM:-0500
TZOFFSETTO:-0400
TZNAME:EDT
DTSTART:20250309T070000
END:DAYLIGHT
BEGIN:STANDARD
TZOFFSETFROM:-0400
TZOFFSETTO:-0500
TZNAME:EST
DTSTART:20251102T060000
END:STANDARD
BEGIN:DAYLIGHT
TZOFFSETFROM:-0500
TZOFFSETTO:-0400
TZNAME:EDT
DTSTART:20260308T070000
END:DAYLIGHT
BEGIN:STANDARD
TZOFFSETFROM:-0400
TZOFFSETTO:-0500
TZNAME:EST
DTSTART:20261101T060000
END:STANDARD
END:VTIMEZONE
BEGIN:VEVENT
DTSTART;TZID=America/Detroit:20250910T200000
DTEND;TZID=America/Detroit:20250910T200000
DTSTAMP:20260421T222336
CREATED:20250826T144423Z
LAST-MODIFIED:20250916T140526Z
UID:13846-1757534400-1757534400@www.pbsbooks.org
SUMMARY:Rhode Island | American Stories: A Reading Road Trip Episode 101
DESCRIPTION:Join PBS Books\, the Library of Congress\, and the affiliated Centers for the Book on for the premiere of American Stories: A Reading Road Trip—starting in Rhode Island! Tune-in September 10th at 8pm to the PBS Books Facebook Event\, on the PBS Books YouTube Channel or on the PBS app. \nEven the smallest state has big stories to tell. This first episode dives into Rhode Island’s rich literary legacy—from the revolutionary writings of Roger Williams and the chilling tales of H.P. Lovecraft to Edgar Allan Poe’s time in Providence and Pulitzer Prize-winner Jhumpa Lahiri’s deeply human storytelling (Interpreter of Maladies\, The Namesake). \nFeaturing interviews with award-winning writers like Anika Aldamuy Denise (Planting Stories)\, illustrator Christopher Denise (Knight Owl)\, Caldecott honoree Oge Mora (Thank You\, Omu!)\, David Macaulay (The Way Things Work)\, and Elizabeth Rush (Rising). This episode explores how Rhode Island’s rugged coastline\, historic architecture\, and vibrant arts community continue to shape literary and visual storytelling. \nWe’ll also visit iconic spaces like the Providence Athenaeum\, Redwood Library\, and John Hay Library\, and spotlight how RISD has nurtured generations of imaginative talent. From Gothic tales to contemporary voices\, this is a celebration of Rhode Island’s creative spirit and enduring literary legacy. \nAbout American Stories: A Reading Road Trip\nPack your curiosity —PBS Books is hitting the road! In partnership with the Library of Congress Centers for the Book\, American Stories: A Reading Road Trip shines a spotlight on individual U.S. states and select territories to uncover their one-of-a-kind literary treasures. \nFrom iconic authors and unforgettable books to hidden-gem bookstores\, amazing libraries\, and the real-life locations that inspired great works\, this cross-country adventure celebrates the stories that have shaped our shared identity. Along the way\, we’ll meet bestselling authors\, passionate booksellers\, and local storytellers —plus share highlights from local programs and events hosted by each state’s Center for the Book —revealing how their corner of America has left its mark on the nation’s imagination. Aligned with America’s 250th birthday\, each episode invites viewers to explore the heart\, history\, and creative spirit of the United States —all through the lens of books and storytelling. \nNew episodes will stream on select Wednesdays at 8pm EST as PBS Books Facebook Live event\, and on the PBS Books YouTube channel\, pbsbooks.org\, and the PBS app. \nAbout the Library of Congress\nThe Library of Congress is the world’s largest library\, offering access to the creative record of the United States –and extensive materials from around the world –both on-site and online. It is the main research arm of the U.S. Congress and the home of the U.S. Copyright Office. Explore collections\, reference services and other programs and plan a visit at loc.gov; access the official site for U.S. federal legislative information at congress.gov; and register creative works of authorship at copyright.gov. \nAbout PBS Books\nPBS Books is a multi-platform initiative celebrating the love of reading. PBS Books is dedicated to connecting books with audiences by engaging them in unique experiences to spark their curiosity and encourage a life-long love of reading and learning. Through social and digital engagement and live coverage of important literary events across the country\, PBS Books celebrates books and writers and works to foster a passion for reading among public media viewers and listeners.Visit pbsbooks.org\, subscribe to the PBS Books YouTube channel\, and follow PBS Books on social media to learn more.
URL:https://www.pbsbooks.org/event/rhode-island-reading-road-trip/
LOCATION:Facebook Live
ATTACH;FMTTYPE=image/png:https://www.pbsbooks.org/wp-content/uploads/2025/08/VOD-RhodeIsland.png
END:VEVENT
END:VCALENDAR