BEGIN:VCALENDAR
VERSION:2.0
PRODID:-//PBS Books - ECPv6.15.18//NONSGML v1.0//EN
CALSCALE:GREGORIAN
METHOD:PUBLISH
X-WR-CALNAME:PBS Books
X-ORIGINAL-URL:https://www.pbsbooks.org
X-WR-CALDESC:Events for PBS Books
REFRESH-INTERVAL;VALUE=DURATION:PT1H
X-Robots-Tag:noindex
X-PUBLISHED-TTL:PT1H
BEGIN:VTIMEZONE
TZID:America/Detroit
BEGIN:DAYLIGHT
TZOFFSETFROM:-0500
TZOFFSETTO:-0400
TZNAME:EDT
DTSTART:20240310T070000
END:DAYLIGHT
BEGIN:STANDARD
TZOFFSETFROM:-0400
TZOFFSETTO:-0500
TZNAME:EST
DTSTART:20241103T060000
END:STANDARD
BEGIN:DAYLIGHT
TZOFFSETFROM:-0500
TZOFFSETTO:-0400
TZNAME:EDT
DTSTART:20250309T070000
END:DAYLIGHT
BEGIN:STANDARD
TZOFFSETFROM:-0400
TZOFFSETTO:-0500
TZNAME:EST
DTSTART:20251102T060000
END:STANDARD
BEGIN:DAYLIGHT
TZOFFSETFROM:-0500
TZOFFSETTO:-0400
TZNAME:EDT
DTSTART:20260308T070000
END:DAYLIGHT
BEGIN:STANDARD
TZOFFSETFROM:-0400
TZOFFSETTO:-0500
TZNAME:EST
DTSTART:20261101T060000
END:STANDARD
END:VTIMEZONE
BEGIN:VEVENT
DTSTART;TZID=America/Detroit:20251020T200000
DTEND;TZID=America/Detroit:20251020T210000
DTSTAMP:20260421T203207
CREATED:20251008T193502Z
LAST-MODIFIED:20251008T193502Z
UID:14222-1760990400-1760994000@www.pbsbooks.org
SUMMARY:Michael McAfee’s Keynote Address to the Detroit Future City Annual Forum
DESCRIPTION:Join Dr. Michael McAfee\, President & CEO of PolicyLink for a powerful keynote on community\, equity\, and leadership in a time of deep division. Speaking to Detroit’s unique role in shaping the future\, McAfee calls for a renewed commitment to “all”—a vision of justice and inclusion that goes beyond words to action. This is a call to courage\, love\, and nation-building\, urging us to embrace a founder’s stance and create a future where everyone can thrive.
URL:https://www.pbsbooks.org/event/michael-mcafees-keynote-address-to-the-detroit-future-city-annual-forum/
ATTACH;FMTTYPE=image/png:https://www.pbsbooks.org/wp-content/uploads/2025/10/KeynoteThumbnail.png
END:VEVENT
END:VCALENDAR