BEGIN:VCALENDAR
VERSION:2.0
PRODID:-//PBS Books - ECPv6.15.18//NONSGML v1.0//EN
CALSCALE:GREGORIAN
METHOD:PUBLISH
X-ORIGINAL-URL:https://www.pbsbooks.org
X-WR-CALDESC:Events for PBS Books
REFRESH-INTERVAL;VALUE=DURATION:PT1H
X-Robots-Tag:noindex
X-PUBLISHED-TTL:PT1H
BEGIN:VTIMEZONE
TZID:America/Detroit
BEGIN:DAYLIGHT
TZOFFSETFROM:-0500
TZOFFSETTO:-0400
TZNAME:EDT
DTSTART:20250309T070000
END:DAYLIGHT
BEGIN:STANDARD
TZOFFSETFROM:-0400
TZOFFSETTO:-0500
TZNAME:EST
DTSTART:20251102T060000
END:STANDARD
BEGIN:DAYLIGHT
TZOFFSETFROM:-0500
TZOFFSETTO:-0400
TZNAME:EDT
DTSTART:20260308T070000
END:DAYLIGHT
BEGIN:STANDARD
TZOFFSETFROM:-0400
TZOFFSETTO:-0500
TZNAME:EST
DTSTART:20261101T060000
END:STANDARD
BEGIN:DAYLIGHT
TZOFFSETFROM:-0500
TZOFFSETTO:-0400
TZNAME:EDT
DTSTART:20270314T070000
END:DAYLIGHT
BEGIN:STANDARD
TZOFFSETFROM:-0400
TZOFFSETTO:-0500
TZNAME:EST
DTSTART:20271107T060000
END:STANDARD
END:VTIMEZONE
BEGIN:VEVENT
DTSTART;TZID=America/Detroit:20260211T200000
DTEND;TZID=America/Detroit:20260211T210000
DTSTAMP:20260421T134701
CREATED:20260202T192632Z
LAST-MODIFIED:20260202T192710Z
UID:14944-1770840000-1770843600@www.pbsbooks.org
SUMMARY:Filmmaker Talk with Kim A. Snyder\, "The Librarians"
DESCRIPTION:In this timely PBS Books Filmmaker Talk\, award-winning director and producer Kim A. Snyder joins host Heather-Marie Montilla for an in-depth conversation about The Librarians\, the powerful new documentary that examines the growing national debate over access to information and the freedom to read. \nCreated in conjunction with the February 9 premiere of The Librarians on PBS\, the film follows librarians across the United States who find themselves on the frontlines of an escalating struggle over library collections\, intellectual freedom\, and democratic values. During this conversation\, Snyder reflects on the four-year journey behind the film\, from its origins in Texas to its expansion into a national story. \nThe discussion also explores the human dimension of the film: the integrity and courage of librarians\, the communities that stand beside them\, and the broader implications for education\, public life\, and First Amendment rights. Grounded in storytelling rather than partisanship\, The Librarians invites viewers into a necessary conversation about who gets to decide what stories are available—and why that question matters to us all. \nThis PBS Books Filmmaker Talk encourages audiences to reflect\, engage\, and continue the dialogue in their own communities\, libraries\, and classrooms. \nThe Librarians will stream on the PBS App and PBS Stations\, check your local listings. \n\n\n\n\n\n\n\n\nPBS Watch-Alike: Independent Lens | The Librarians\nThe Librarians traces how library collection standards are impacting communities across the U.S. Librarians find themselves on the frontlines of debates as they navigate the review of library materials that includes books with LGBTQIA+ and race-related themes.
URL:https://www.pbsbooks.org/event/filmmaker-talk-with-the-librarians/
ATTACH;FMTTYPE=image/png:https://www.pbsbooks.org/wp-content/uploads/2026/02/The-Librarian-Filmmaker-Talk-16x9-Event-Thumbnails.png
END:VEVENT
END:VCALENDAR