BEGIN:VCALENDAR
VERSION:2.0
PRODID:-//PBS Books - ECPv6.15.18//NONSGML v1.0//EN
CALSCALE:GREGORIAN
METHOD:PUBLISH
X-WR-CALNAME:PBS Books
X-ORIGINAL-URL:https://www.pbsbooks.org
X-WR-CALDESC:Events for PBS Books
REFRESH-INTERVAL;VALUE=DURATION:PT1H
X-Robots-Tag:noindex
X-PUBLISHED-TTL:PT1H
BEGIN:VTIMEZONE
TZID:America/Detroit
BEGIN:DAYLIGHT
TZOFFSETFROM:-0500
TZOFFSETTO:-0400
TZNAME:EDT
DTSTART:20250309T070000
END:DAYLIGHT
BEGIN:STANDARD
TZOFFSETFROM:-0400
TZOFFSETTO:-0500
TZNAME:EST
DTSTART:20251102T060000
END:STANDARD
BEGIN:DAYLIGHT
TZOFFSETFROM:-0500
TZOFFSETTO:-0400
TZNAME:EDT
DTSTART:20260308T070000
END:DAYLIGHT
BEGIN:STANDARD
TZOFFSETFROM:-0400
TZOFFSETTO:-0500
TZNAME:EST
DTSTART:20261101T060000
END:STANDARD
BEGIN:DAYLIGHT
TZOFFSETFROM:-0500
TZOFFSETTO:-0400
TZNAME:EDT
DTSTART:20270314T070000
END:DAYLIGHT
BEGIN:STANDARD
TZOFFSETFROM:-0400
TZOFFSETTO:-0500
TZNAME:EST
DTSTART:20271107T060000
END:STANDARD
END:VTIMEZONE
BEGIN:VEVENT
DTSTART;TZID=America/Detroit:20260220T200000
DTEND;TZID=America/Detroit:20260220T210000
DTSTAMP:20260421T135040
CREATED:20260128T185704Z
LAST-MODIFIED:20260331T140933Z
UID:14893-1771617600-1771621200@www.pbsbooks.org
SUMMARY:Basil Twist | Penny Stamps Speaker Series
DESCRIPTION:The Alchemy of Puppetry\nBasil Twist is a visionary\, third-generation puppeteer whose work has reshaped contemporary puppetry worldwide. A San Francisco native and the only American graduate of France’s École Supérieure Nationale des Arts de la Marionnette\, he gained national attention with The Araneidae Show and the ground-breaking multiple award-winning Symphonie Fantastique\, which revealed him as a singular artist of unlimited imagination. His inventive\, genre-defying productions — from Petrushka and Dogugaeshi to Arias with a Twist (co-created with nightlife icon Joey Arias) — have toured internationally. \nDeeply musical in nature\, Twist’s love of music has led to major opera collaborations at the Opéra Comique\, English National Opera\, Houston Grand Opera\, and Vienna State Opera. Other operatic highlights include Hansel and Gretel and La Bella Dormente Nel Bosco\, and De Falla’s Master Peters Pupper Show with Eos Orchestra. \nIn dance\, he has created puppetry for works by Christopher Wheeldon\, Pilobolus\, the Joffrey Ballet\, Dutch National Ballet\, San Francisco Ballet\, Royal Ballet\, and Joe Goode Dance Company\, and adapted Petrushka for symphony orchestras and City Center’s Fall for Dance.  \nTwist created the siblings in Paula Vogel’s The Long Christmas Ride Home at Trinity Repertory\, The Long Wharf\, and The Vineyard Theatre\, including directing and designing the West Coast première at The Magic Theatre. He also designed the play-within-a-play for Oskar Eustis’ Hamlet at Shakespeare in the Park and worked on Des McAnuff’s Yoshimi Battles the Pink Robots at La Jolla Playhouse. Broadway credits include puppetry design for Charlie and The Chocolate Factory\, Oh\, Hello!\, and The Addams Family\, as well as puppetry direction for the Pee-Wee Herman Show. A longtime collaborator with the late Lee Breuer and Mabou Mines\, Twist also worked on Peter and Wendy\, Red Beads\, and A Streetcar Named Desire at the Comédie Française. \nTwist has received a MacArthur Fellowship\, Rome Prize\, Guggenheim Fellowship\, Doris Duke Performing Artist Award\, USA Fellowship\, and multiple Obie\, Drama Desk\, Bessie\, UNIMA\, and Henry Hewes Awards. He directs the internationally recognized Dream Music Puppetry Program at HERE in New York City. \nThis project was made possible by a grant from the Arts Initiative at the University of Michigan. \nSeries presenting partners: Detroit PBS\, ALL ARTS\, and PBS Books. Media partner: Michigan Public.
URL:https://www.pbsbooks.org/event/basil-twist-penny-stamps-speaker-series/
ATTACH;FMTTYPE=image/png:https://www.pbsbooks.org/wp-content/uploads/2026/01/Basil-Twist.png
END:VEVENT
END:VCALENDAR