BEGIN:VCALENDAR
VERSION:2.0
PRODID:-//PBS Books - ECPv6.15.18//NONSGML v1.0//EN
CALSCALE:GREGORIAN
METHOD:PUBLISH
X-WR-CALNAME:PBS Books
X-ORIGINAL-URL:https://www.pbsbooks.org
X-WR-CALDESC:Events for PBS Books
REFRESH-INTERVAL;VALUE=DURATION:PT1H
X-Robots-Tag:noindex
X-PUBLISHED-TTL:PT1H
BEGIN:VTIMEZONE
TZID:America/Detroit
BEGIN:DAYLIGHT
TZOFFSETFROM:-0500
TZOFFSETTO:-0400
TZNAME:EDT
DTSTART:20250309T070000
END:DAYLIGHT
BEGIN:STANDARD
TZOFFSETFROM:-0400
TZOFFSETTO:-0500
TZNAME:EST
DTSTART:20251102T060000
END:STANDARD
BEGIN:DAYLIGHT
TZOFFSETFROM:-0500
TZOFFSETTO:-0400
TZNAME:EDT
DTSTART:20260308T070000
END:DAYLIGHT
BEGIN:STANDARD
TZOFFSETFROM:-0400
TZOFFSETTO:-0500
TZNAME:EST
DTSTART:20261101T060000
END:STANDARD
BEGIN:DAYLIGHT
TZOFFSETFROM:-0500
TZOFFSETTO:-0400
TZNAME:EDT
DTSTART:20270314T070000
END:DAYLIGHT
BEGIN:STANDARD
TZOFFSETFROM:-0400
TZOFFSETTO:-0500
TZNAME:EST
DTSTART:20271107T060000
END:STANDARD
END:VTIMEZONE
BEGIN:VEVENT
DTSTART;TZID=America/Detroit:20260225T200000
DTEND;TZID=America/Detroit:20260225T210000
DTSTAMP:20260421T134508
CREATED:20260202T182700Z
LAST-MODIFIED:20260202T195414Z
UID:14931-1772049600-1772053200@www.pbsbooks.org
SUMMARY:Book Picks for Black History Month with Princess Weekes and Lauren Smith | Readers Club Episode 302
DESCRIPTION:In this special episode of the PBS Books Readers Club\, hosts Princess Weekes and Lauren Smith recommend their favorite Black History Month reads. The episode will be available on PBS Books YouTube Chanel on February 1st\, and as a Facebook Live Event on February 25th at 8pm EST. \nFebruary is Black History Month\, and in 2026 we mark a major milestone: 100 years of national Black history commemorations. What began as a weeklong observance has grown into an annual opportunity to reflect\, learn\, and celebrate Black history\, culture\, and contributions. In this special episode\, PBS Books Readers Club hosts Lauren Smith and Princess Weekes share book recommendations that spotlight and celebrate Black authors. \nPrincess reflects\, “I think so often Black literature is used for educational or sociological purposes. And that’s great\, but we have rich narratives outside of that. So\, I was looking for stories about Black people being complicated\, messy\, and trying to find love— because\, you know\, I love a romance!” \nWhich books make the list? From a sweeping reimagining of The Great Gatsby to a gritty Southern crime saga\, this list spans intimate family histories\, cultural touchstones\, and stories that wrestle with faith\, desire\, and belonging. Expect bold voices\, moral reflections and unforgettable communities. Join Lauren and Princess as they reveal their picks and share a few on their personal TBR lists. \nPBS Watch-Alike: Black and Jewish America: An Interwoven HistoryThis new PBS documentary series hosted by Dr. Henry Louis Gates Jr. explores the deep\, complex relationship between Black and Jewish Americans across U.S. history. Tracing moments of solidarity\, shared struggle\, cultural exchange\, and periods of tension\, the series examines how these two communities have shaped American life—While also reflecting on the challenges and need for cooperation in the face of ongoing injustices. \nSeries premiere Tuesday\, February 3rd @ 9ET\, on PBS\, the PBS app and pbs.org \n About the Hosts\nPrincess Weekes\nPrincess Weekes is an award winning writer and video essayist who works at breaking down the intersections between race\, gender\, and pop culture. Formally an Assistant Editor at The Mary Sue\, co-host of Netflix’s The Geeked Podcast\, and co-host and co-writer on the PBS Digital Series It’s Lit. On weekends she works as a bookseller at a local bookstore. When not reading or writing she can be found playing TTRPGs of cuddling with her cat\, Lola. \n\n\nLauren Smith\nExecutive Producer and host of national PBS programming at Detroit PBS\, Lauren develops content for PBS and other distributors of public media for broadcast\, streaming\, and other digital channels and has executive-produced and/or produced over 60 national broadcast and programs. Her passion is to develop inspiring\, entertaining\, and educational content alongside the best national and international talent\, and to engage important content with communities across the country. Lauren loves to read and has worked to develop and produce PBS Books content for nearly ten years!
URL:https://www.pbsbooks.org/event/book-picks-for-black-history-month-with-princess-weekes-and-lauren-smith-readers-club-episode-302/
ATTACH;FMTTYPE=image/jpeg:https://www.pbsbooks.org/wp-content/uploads/2026/02/maxresdefault-13.jpg
END:VEVENT
END:VCALENDAR