BEGIN:VCALENDAR
VERSION:2.0
PRODID:-//PBS Books - ECPv6.15.18//NONSGML v1.0//EN
CALSCALE:GREGORIAN
METHOD:PUBLISH
X-ORIGINAL-URL:https://www.pbsbooks.org
X-WR-CALDESC:Events for PBS Books
REFRESH-INTERVAL;VALUE=DURATION:PT1H
X-Robots-Tag:noindex
X-PUBLISHED-TTL:PT1H
BEGIN:VTIMEZONE
TZID:America/Halifax
BEGIN:DAYLIGHT
TZOFFSETFROM:-0400
TZOFFSETTO:-0300
TZNAME:ADT
DTSTART:20210314T060000
END:DAYLIGHT
BEGIN:STANDARD
TZOFFSETFROM:-0300
TZOFFSETTO:-0400
TZNAME:AST
DTSTART:20211107T050000
END:STANDARD
BEGIN:DAYLIGHT
TZOFFSETFROM:-0400
TZOFFSETTO:-0300
TZNAME:ADT
DTSTART:20220313T060000
END:DAYLIGHT
BEGIN:STANDARD
TZOFFSETFROM:-0300
TZOFFSETTO:-0400
TZNAME:AST
DTSTART:20221106T050000
END:STANDARD
BEGIN:DAYLIGHT
TZOFFSETFROM:-0400
TZOFFSETTO:-0300
TZNAME:ADT
DTSTART:20230312T060000
END:DAYLIGHT
BEGIN:STANDARD
TZOFFSETFROM:-0300
TZOFFSETTO:-0400
TZNAME:AST
DTSTART:20231105T050000
END:STANDARD
END:VTIMEZONE
BEGIN:VEVENT
DTSTART;TZID=America/Halifax:20220420T190000
DTEND;TZID=America/Halifax:20220420T200000
DTSTAMP:20260421T071933
CREATED:20220330T180619Z
LAST-MODIFIED:20220415T201911Z
UID:4635-1650481200-1650484800@www.pbsbooks.org
SUMMARY:Benjamin Franklin and Citizen Science
DESCRIPTION:PBS Books\, SciStarter\, PBS NewsHour Student Reporting Labs\, and WETA present a free virtual program on April 20 at 7pm ET Citizen Science Month\, STEM storytelling\, and Ken Burns’s ‘BENJAMIN FRANKLIN\,’ which will begin to air April 4 at 8/7c on PBS stations nationwide. \nCitizen science enables everyday people to be involved in scientific research by participating in data collection. Many consider Benjamin Franklin to be America’s first citizen scientist. Franklin believed all people should engage with science\, and that knowledge can be used to advance society for the benefit of all. \nThen\, tap your inner citizen scientists all year long right here by selecting a project below to share your observations and contribute to citizen science the way Benjamin Franklin did!  Continue your citizen science journey on https://www.SciStarter.org/BenFranklin
URL:https://www.pbsbooks.org/event/benjamin-franklin-and-citizen-science/
CATEGORIES:Benjamin Franklin
ATTACH;FMTTYPE=image/jpeg:https://www.pbsbooks.org/wp-content/uploads/2022/03/BF_Lockup13_1920x1080.jpg
END:VEVENT
BEGIN:VEVENT
DTSTART;TZID=America/Halifax:20220406T170000
DTEND;TZID=America/Halifax:20220406T180000
DTSTAMP:20260421T071933
CREATED:20220310T162151Z
LAST-MODIFIED:20220406T172634Z
UID:4556-1649264400-1649268000@www.pbsbooks.org
SUMMARY:Trailblazer: Ben Franklin and STEM
DESCRIPTION:Wednesday\, April 6 at 5pm ET | 2pm PT\, PBS Books is pleased to host a conversation with children’s author Alicia Klepeis\, author of The Science And Technology of Ben Franklin. \nNot only did Ben Franklin create the first circulating library\, he was a printer\, diplomat\, scientist\, and inventor. Benjamin Franklin was a very curious person. \nIn The Science and Technology of Ben Franklin (readers ages 9 through 12)\, the author explores the life of one of Colonial America’s most fascinating citizens. During this program\, viewers will learn more about the author and her book about Ben Franklin.  Alicia Klepeis’s book offers hands-on STEM activities\, essential questions\, text-to-world connections\, and links to online resources.  The book is hands-on and interactive—so expect an interactive program!  Through hands-on STEM activities\, essential questions\, text-to-world connections\, and links to online resources\, kids zoom in for a closer look into Ben Franklin’s world. The author will answer audience questions at the end of the conversation. \nOn April 4 at 8pm ET\, Ken Burns’s four-hour documentary\, BENJAMIN FRANKLIN\, will air on PBS stations across the country.  It explores the revolutionary life of one of the 18th century’s most consequential and compelling personalities\, whose work and words unlocked the mystery of electricity and helped create the United States. “Write things worth reading\,” he said in Poor Richard’s Almanack\, “or do things worth the writing.” Benjamin Franklin did both. This program is offered in partnership with WETA and the PBS network.  #BenFranklinPBS \n  \nAbout the Author\nFrom circus science to global ice cream flavors\, Alicia Klepeis loves to research fun and out-of-the-ordinary topics that bring the world to young readers. Alicia began her career at the National Geographic Society. She is the author of more than 150 children’s books\, including Gutsy Girls Go For Science: Astronauts; Polar Bears & Penguins: A Pretty Cool Introduction to the Arctic and Antarctic; The Science And Technology Of Ben Franklin; and The World’s Strangest Foods. A former middle school teacher\, Alicia loves doing school visits and is currently working on several projects involving world cultures\, unusual animals\, and invasive species. She lives with her family in upstate New York. \nFor more information visit here website here: https://www.aliciaklepeis.com/index.html
URL:https://www.pbsbooks.org/event/ben-franklin-and-stem/
CATEGORIES:Benjamin Franklin
ATTACH;FMTTYPE=image/png:https://www.pbsbooks.org/wp-content/uploads/2022/03/Alicia-Klepeis_1024x630-2-1.png
END:VEVENT
BEGIN:VEVENT
DTSTART;TZID=America/Halifax:20220330T170000
DTEND;TZID=America/Halifax:20220330T180000
DTSTAMP:20260421T071933
CREATED:20220310T160418Z
LAST-MODIFIED:20220406T172640Z
UID:4553-1648659600-1648663200@www.pbsbooks.org
SUMMARY:Trailblazer: Ben Franklin and The Library
DESCRIPTION:Wednesday\, March 30 at 5pm ET | 2pm PT\, PBS Books is pleased to host a conversation with New York Times best-selling author Jane Yolen\, author of The Leather Apron Club: Ben Franklin\, His Son Billy\, & America’s First Circulating Library.  \nCelebrating libraries\, master storyteller Jane Yolen brings Benjamin Franklin and his son Billy story at Leather Apron Club alive. Learn about the first circulating library and hear from Jane Yolen about her work and her creative process.  The author will answer audience questions at the end of the conversation. \nOn April 4 at 8pm ET\, Ken Burns’s four-hour documentary\, BENJAMIN FRANKLIN\, will air on PBS stations across the country.  It explores the revolutionary life of one of the 18th century’s most consequential and compelling personalities\, whose work and words unlocked the mystery of electricity and helped create the United States. “Write things worth reading\,” he said in Poor Richard’s Almanack\, “or do things worth the writing.” Benjamin Franklin did both. This program is offered in partnership with WETA and the PBS network.  #BenFranklinPBS \nAbout the Author\n“I am one of those writers who believe that one should not necessarily write what you know\, but what you want to know.” \nJane Yolen was a gold star kid. She took piano lessons\, studied ballet at Balanchine’s School of American Ballet\, sang in the high school and college choirs was captain of the high school girls’ basketball team\, and News Editor of her high school paper. Her first forays into writing included the production of a musical she wrote in the first grade about vegetables\, and the publication of a newspaper for her apartment building at the age of 10. A veritably precocious child\, Jane was born in New York City but during her childhood\, her small family moved to California\, then back to New York\, and then to Connecticut. She graduated seventh in her high school class (although she believes that if she’d worked a little harder she may have been third) and attended Smith College\, where she won poetry and journalism awards and again wrote the class musical. \nAfter college Jane moved back to New York City where she worked as an editor and wrote during her lunch breaks and on the weekends. She considered herself a poet and journalist\, but to her surprise she became a children’s book writer and sold her first book\, Pirates in Petticoats on her 22nd birthday. Since then she has published around 420 books and received numerous awards\, including a Golden Kite Award\, National Book Award nomination\, a Caldecott Medal for Owl Moon\, and most recently\, the Sydney Taylor Body-of-Work Award. \nJane has three children and six grandchildren. She lives in western Massachusetts\, Mystic Ct. and has a house in Scotland.
URL:https://www.pbsbooks.org/event/trailblazer-ben-franklin-and-the-library/
CATEGORIES:Benjamin Franklin
ATTACH;FMTTYPE=image/png:https://www.pbsbooks.org/wp-content/uploads/2022/03/Jane-Yolen-1.png
END:VEVENT
END:VCALENDAR