BEGIN:VCALENDAR
VERSION:2.0
PRODID:-//PBS Books - ECPv6.15.18//NONSGML v1.0//EN
CALSCALE:GREGORIAN
METHOD:PUBLISH
X-WR-CALNAME:PBS Books
X-ORIGINAL-URL:https://www.pbsbooks.org
X-WR-CALDESC:Events for PBS Books
REFRESH-INTERVAL;VALUE=DURATION:PT1H
X-Robots-Tag:noindex
X-PUBLISHED-TTL:PT1H
BEGIN:VTIMEZONE
TZID:America/Halifax
BEGIN:DAYLIGHT
TZOFFSETFROM:-0400
TZOFFSETTO:-0300
TZNAME:ADT
DTSTART:20220313T060000
END:DAYLIGHT
BEGIN:STANDARD
TZOFFSETFROM:-0300
TZOFFSETTO:-0400
TZNAME:AST
DTSTART:20221106T050000
END:STANDARD
BEGIN:DAYLIGHT
TZOFFSETFROM:-0400
TZOFFSETTO:-0300
TZNAME:ADT
DTSTART:20230312T060000
END:DAYLIGHT
BEGIN:STANDARD
TZOFFSETFROM:-0300
TZOFFSETTO:-0400
TZNAME:AST
DTSTART:20231105T050000
END:STANDARD
BEGIN:DAYLIGHT
TZOFFSETFROM:-0400
TZOFFSETTO:-0300
TZNAME:ADT
DTSTART:20240310T060000
END:DAYLIGHT
BEGIN:STANDARD
TZOFFSETFROM:-0300
TZOFFSETTO:-0400
TZNAME:AST
DTSTART:20241103T050000
END:STANDARD
END:VTIMEZONE
BEGIN:VEVENT
DTSTART;TZID=America/Halifax:20230131T200000
DTEND;TZID=America/Halifax:20230131T210000
DTSTAMP:20260423T133901
CREATED:20230126T195817Z
LAST-MODIFIED:20230321T163638Z
UID:5469-1675195200-1675198800@www.pbsbooks.org
SUMMARY:Charles M. Blow | Wright Museum Speakers
DESCRIPTION:Watch the livestream presentation of the Charles H. Wright Museum of African American History’s inaugural President Lecture Series featuring Charles Blow\, columnist for The New York Times\, political analyst and author of “Fire Shut Up in My Bones” and “The Devil You Know: A Black Power Manifesto.” Blow brings insight and a robust discussion on Martin Luther King Jr.\, race and culture.
URL:https://www.pbsbooks.org/event/charles-m-blow-wright-museum-speakers/
CATEGORIES:Wright Museum
ATTACH;FMTTYPE=image/png:https://www.pbsbooks.org/wp-content/uploads/2023/01/Charles-Blow-Social-Media-Graphic-for-30-day-Stream.png
END:VEVENT
END:VCALENDAR