BEGIN:VCALENDAR
VERSION:2.0
PRODID:-//PBS Books - ECPv6.15.18//NONSGML v1.0//EN
CALSCALE:GREGORIAN
METHOD:PUBLISH
X-WR-CALNAME:PBS Books
X-ORIGINAL-URL:https://www.pbsbooks.org
X-WR-CALDESC:Events for PBS Books
REFRESH-INTERVAL;VALUE=DURATION:PT1H
X-Robots-Tag:noindex
X-PUBLISHED-TTL:PT1H
BEGIN:VTIMEZONE
TZID:America/Detroit
BEGIN:DAYLIGHT
TZOFFSETFROM:-0500
TZOFFSETTO:-0400
TZNAME:EDT
DTSTART:20200308T070000
END:DAYLIGHT
BEGIN:STANDARD
TZOFFSETFROM:-0400
TZOFFSETTO:-0500
TZNAME:EST
DTSTART:20201101T060000
END:STANDARD
BEGIN:DAYLIGHT
TZOFFSETFROM:-0500
TZOFFSETTO:-0400
TZNAME:EDT
DTSTART:20210314T070000
END:DAYLIGHT
BEGIN:STANDARD
TZOFFSETFROM:-0400
TZOFFSETTO:-0500
TZNAME:EST
DTSTART:20211107T060000
END:STANDARD
BEGIN:DAYLIGHT
TZOFFSETFROM:-0500
TZOFFSETTO:-0400
TZNAME:EDT
DTSTART:20220313T070000
END:DAYLIGHT
BEGIN:STANDARD
TZOFFSETFROM:-0400
TZOFFSETTO:-0500
TZNAME:EST
DTSTART:20221106T060000
END:STANDARD
END:VTIMEZONE
BEGIN:VEVENT
DTSTART;TZID=America/Detroit:20211102T170000
DTEND;TZID=America/Detroit:20211102T180000
DTSTAMP:20260425T161534
CREATED:20211025T212254Z
LAST-MODIFIED:20211025T225436Z
UID:4270-1635872400-1635876000@www.pbsbooks.org
SUMMARY:Celebrate the Holidays: Diwali with Mitali Banerjee Ruths
DESCRIPTION:PBS Books presents this Author Talk with children’s author Mitali Banerjee Ruths about her new book Archie Celebrates Diwali.\nJoin us the week of Diwali to learn about this important holiday through Archie’s family’s celebration. Part of the Hindu tradition and celebrated throughout India\, Diwali is the festival of lights.  Enjoy learning about Archie’s struggle to fit in and share part of her own culture.  Learn about Ruths’s inspiration\, creative process\, and have an opportunity to ask questions. Plus\, enjoy a festive hands-on activity! \nAbout the Author\nMitali Banerjee Ruths grew up celebrating Hindu festivals with her family. She is an American living in Canada who sometimes still dreams about being an astronaut. Archie Celebrates Diwali is her first book.
URL:https://www.pbsbooks.org/event/celebrate-the-holidays-diwali-with-mitali-banerjee-ruths/
ATTACH;FMTTYPE=image/png:https://www.pbsbooks.org/wp-content/uploads/2021/10/Mitali-Banerjee-Ruths_1024x630-2.png
END:VEVENT
BEGIN:VEVENT
DTSTART;TZID=America/Detroit:20211109T200000
DTEND;TZID=America/Detroit:20211109T210000
DTSTAMP:20260425T161534
CREATED:20211025T222758Z
LAST-MODIFIED:20231103T173842Z
UID:4278-1636488000-1636491600@www.pbsbooks.org
SUMMARY:Celebrate Native American Heritage Month with Trailblazer Author: Toni Jensen
DESCRIPTION:PBS Books\, in collaboration with WTTW\, presents a conversation with Toni Jensen\, author of Carry and From the Hilltop. The conversation will be moderated by author and veteran David Tromblay. \nCarry: A Memoir of Survival on Stolen Land is a powerful\, poetic memoir-in-essays about gun violence\, land\, and Indigenous women’s lives. From the Hilltop draws on American Indian oral traditions and Jensen’s own Métis upbringing to tell stories that mix many lives and voices – her characters offer fleeting perspectives on a world that reconfigures the tragedy and disconnection often found in narratives of American Indian life. \nAbout the Author\nToni Jensen teaches in the MFA programs at the University of Arkansas and the Institute of American Indian Arts. She is a 2020 recipient of a Creative Writing Fellowship from the National Endowment for the Arts\, and her work has been published in Orion\, Catapult\, and Ecotone. She is Métis. \n 
URL:https://www.pbsbooks.org/event/celebrate-native-american-heritage-month-with-trailblazer-author-toni-jensen/
ATTACH;FMTTYPE=image/png:https://www.pbsbooks.org/wp-content/uploads/2021/10/TrlBlazingWMN_Toni-Jensen-2.png
END:VEVENT
BEGIN:VEVENT
DTSTART;TZID=America/Detroit:20211116T200000
DTEND;TZID=America/Detroit:20211116T210000
DTSTAMP:20260425T161534
CREATED:20211025T223635Z
LAST-MODIFIED:20211026T234958Z
UID:4281-1637092800-1637096400@www.pbsbooks.org
SUMMARY:Author Talk for Parents: Claire Lerner\, Why Is My Child In Charge?
DESCRIPTION:PBS Books presents this Author Talk with Claire Lerner\, helping parents get ready for the holidays with their children.\nThrough stories from her practice\, Lerner will provide tips to empower parents on how to make critical mindshifts and enable us to see their children’s behaviors through a new lens. Lerner will share highlights from her book and provide insights into how to establish a new path. roadmap for how to tune into the root causes of children’s behavior and how to create and implement strategies that are tailored to the unique needs of each child and family. \nAbout the Author\nClaire Lerner is a child development specialist and practicing clinician with more than 30 years of experience working with children and families in a range of capacities. Trained as a clinical social worker and psychotherapist\, she began her career as a child and family therapist. For nearly 20 years\, Lerner served as the director of parenting resources at ZERO TO THREE. \nLerner is the author of hundreds of parenting resources\, including blogs\, podcasts\, videos\, and her new book\, Why Is My Child in Charge? She writes a column for PBS Kids\, frequently contributes to parenting publications\, and has served as a content expert for numerous national daily newspapers. \nHer work and her writing are informed by her background in mental health\, her clinical experience with hundreds of children and families\, and what she describes as her most important “training”: raising two wonderfully complex and very spirited now adult children. She is also a mother to two adult stepchildren. Claire Lerner lives in Washington\, DC with her husband and a dog.
URL:https://www.pbsbooks.org/event/author-talk-for-parents-claire-lerner-why-is-my-child-in-charge/
ATTACH;FMTTYPE=image/png:https://www.pbsbooks.org/wp-content/uploads/2021/10/Clair-Lerner_1024x630.png
END:VEVENT
BEGIN:VEVENT
DTSTART;TZID=America/Detroit:20211119T130000
DTEND;TZID=America/Detroit:20211119T140000
DTSTAMP:20260425T161534
CREATED:20210921T162356Z
LAST-MODIFIED:20230926T180448Z
UID:4213-1637326800-1637330400@www.pbsbooks.org
SUMMARY:Health Insurance Marketplace: Managing Your Medical Resources
DESCRIPTION:Randall Rutta\, Chief Executive Officer at National Health Council \nMyles Ma\, a health care expert and senior managing editor of Easy Money\, the personal finance newsletter from Policygenius \nKim Lankford\, a financial journalist who’s written about Medicare and personal finance for AARP\, U.S. News & World Report\, the Washington Post\, Next Avenue\, and other publications \nLaura Adams\, a personal finance expert and award-winning author
URL:https://www.pbsbooks.org/event/health-insurance-marketplace-managing-your-medical-resources/
CATEGORIES:Wi65
ATTACH;FMTTYPE=image/png:https://www.pbsbooks.org/wp-content/uploads/2021/09/WI65_Ep.9.png
END:VEVENT
END:VCALENDAR