BEGIN:VCALENDAR
VERSION:2.0
PRODID:-//PBS Books - ECPv6.15.18//NONSGML v1.0//EN
CALSCALE:GREGORIAN
METHOD:PUBLISH
X-WR-CALNAME:PBS Books
X-ORIGINAL-URL:https://www.pbsbooks.org
X-WR-CALDESC:Events for PBS Books
REFRESH-INTERVAL;VALUE=DURATION:PT1H
X-Robots-Tag:noindex
X-PUBLISHED-TTL:PT1H
BEGIN:VTIMEZONE
TZID:America/Detroit
BEGIN:DAYLIGHT
TZOFFSETFROM:-0500
TZOFFSETTO:-0400
TZNAME:EDT
DTSTART:20210314T070000
END:DAYLIGHT
BEGIN:STANDARD
TZOFFSETFROM:-0400
TZOFFSETTO:-0500
TZNAME:EST
DTSTART:20211107T060000
END:STANDARD
BEGIN:DAYLIGHT
TZOFFSETFROM:-0500
TZOFFSETTO:-0400
TZNAME:EDT
DTSTART:20220313T070000
END:DAYLIGHT
BEGIN:STANDARD
TZOFFSETFROM:-0400
TZOFFSETTO:-0500
TZNAME:EST
DTSTART:20221106T060000
END:STANDARD
BEGIN:DAYLIGHT
TZOFFSETFROM:-0500
TZOFFSETTO:-0400
TZNAME:EDT
DTSTART:20230312T070000
END:DAYLIGHT
BEGIN:STANDARD
TZOFFSETFROM:-0400
TZOFFSETTO:-0500
TZNAME:EST
DTSTART:20231105T060000
END:STANDARD
END:VTIMEZONE
BEGIN:VTIMEZONE
TZID:America/Halifax
BEGIN:DAYLIGHT
TZOFFSETFROM:-0400
TZOFFSETTO:-0300
TZNAME:ADT
DTSTART:20210314T060000
END:DAYLIGHT
BEGIN:STANDARD
TZOFFSETFROM:-0300
TZOFFSETTO:-0400
TZNAME:AST
DTSTART:20211107T050000
END:STANDARD
BEGIN:DAYLIGHT
TZOFFSETFROM:-0400
TZOFFSETTO:-0300
TZNAME:ADT
DTSTART:20220313T060000
END:DAYLIGHT
BEGIN:STANDARD
TZOFFSETFROM:-0300
TZOFFSETTO:-0400
TZNAME:AST
DTSTART:20221106T050000
END:STANDARD
BEGIN:DAYLIGHT
TZOFFSETFROM:-0400
TZOFFSETTO:-0300
TZNAME:ADT
DTSTART:20230312T060000
END:DAYLIGHT
BEGIN:STANDARD
TZOFFSETFROM:-0300
TZOFFSETTO:-0400
TZNAME:AST
DTSTART:20231105T050000
END:STANDARD
END:VTIMEZONE
BEGIN:VEVENT
DTSTART;TZID=America/Detroit:20220309T170000
DTEND;TZID=America/Detroit:20220309T180000
DTSTAMP:20260425T223149
CREATED:20220216T165932Z
LAST-MODIFIED:20220218T012713Z
UID:4486-1646845200-1646848800@www.pbsbooks.org
SUMMARY:Author Talk: Kelly Yang
DESCRIPTION:Wednesday\, March 9 at 5pm ET | 2pm PT\, PBS Books is pleased to interview trailblazer Kelly Yang\, author of New From Here\, in celebration of Women’s History Month. \nAn award-winning author\, Kelly will share insights into her writing process\, her latest works\, and her creative inspiration.  Her latest book New From Here is a poignant middle grade novel about courage\, hope\, and resilience as an Asian American boy fights to keep his family together and stand up to racism during the initial outbreak of the coronavirus.  This book is perfect to spark conversation with tweens about recent challenges in their own life. Following the conversation\, there will be an opportunity for questions from audience members on Facebook. \nAbout the Author\nKelly Yang is the New York Times bestselling author of the FRONT DESK series\, including Front Desk\, Three Keys\, and Room to Dream\, New From Here\, and young adult novels Parachutes and Private Label. Front Desk is Kelly’s award-winning middle grade debut novel about a 10 year old Chinese American immigrant girl who manages the front desk of a motel while her parents clean the rooms. FRONT DESK was awarded the 2019 Asian Pacific American Award for Literature\, the Parents’ Choice Gold Medal\, was the 2019 Global Read Aloud\, and was named an Amazon Best Book of the Year\, a Washington Post Best Book of the Year\, a Kirkus Best Book of the Year\, a School Library Journal Best Book of the Year\, a NPR Best Book of the Year\, and a Publisher’s Weekly Best Book of the Year. \nKelly immigrated to America when she was 6 years old and grew up in Southern California\, where she and her parents worked in three different motels. She eventually left the motels and went to college at the age of 13 and law school at the age of 17. She is a graduate of UC Berkeley\, where she majored in Political Science\, and Harvard Law School. After law school\, she gave up law to pursue her passion of writing and teaching children writing. She is the founder of The Kelly Yang Project (kellyyang.edu.hk)\, a leading writing and debating program for kids in Asia. As a writing teacher for 13 years\, Kelly helped thousands of children find their voice and become better writers and more powerful speakers. Before turning to fiction\, she was also a columnist for the South China Morning Post for many years. Her writing has been published in The New York Times\, The Washington Post\, and The Atlantic. She has three children and lives in Los Angeles.
URL:https://www.pbsbooks.org/event/author-talk-kelly-yang/
CATEGORIES:Trailblazing Women Series
ATTACH;FMTTYPE=image/png:https://www.pbsbooks.org/wp-content/uploads/2022/02/Kelly-Yang_1024x630.png
END:VEVENT
BEGIN:VEVENT
DTSTART;TZID=America/Detroit:20220310T200000
DTEND;TZID=America/Detroit:20220310T210000
DTSTAMP:20260425T223149
CREATED:20220218T012636Z
LAST-MODIFIED:20220309T230242Z
UID:4491-1646942400-1646946000@www.pbsbooks.org
SUMMARY:Author Talk: Judith Brodsky with Jodi Throckmorton
DESCRIPTION:Thursday\, March 10 at 8pm ET | 5pm PT\, PBS Books\, in partnership with ArtTable\, is pleased to host\, in celebration of Women’s History Month with two trailblazers: artist\, arts advocate\, and professor Judith K. Brodsky\, author of Dismantling the Patriarchy\, Bit by Bit: Art\, Feminism\, and Digital Technology\, with curator Jodi Throckmorton. \nIn her recent book\, Brodsky explores trailblazing women\, including artists of color\, who have been innovators in the digital art arena as early as the late 1960s. Through an examination of artists’ work and feminist art theory\, Brodsky will discuss the crucial role women are playing in the art world in this digital realm\, including in new media as video\, websites and social networking\, virtual and augmented reality\, artificial intelligence\, and NFTs. Through this discussion\, viewers will gain critical insights into the important role female artists are playing in the digital space\, which historically has been dominated by men.  Audience questions will be answered at the end of the conversation. \nAbout the Author\nJudith K. Brodsky is Distinguished Professor Emerita\, Visual Arts\, Rutgers University\, founder of the Rutgers Center for Innovative Print and Paper\, now the Brodsky Center at PAFA\, co-founder of the Rutgers Center for Women in the Arts and Humanities and The Feminist Art Project. Her curatorial work includes The Fertile Crescent: Gender\, Art\, and Society (2012)\, the Philadelphia city-wide print festival\, Philagrafika (2010)\, and Race and Erasure in Art History: Retrieving a Forgotten Circle of Black Artists (2022). She is past national president of ArtTable\, College Art Association\, Women’s Caucus for Art\, former board chair\, New York Foundation for the Arts\, and a former dean and associate provost at Rutgers. Just published in October 2021 is Dismantling the Patriarchy Bit by Bit (Bloomsbury) a history of feminist artists using digital technology including women artists of color and female-identifying\, queer\, and transgender artists such as Legacy Russell and micha cárdenas\, along with pioneers like Joan Jonas\, Jenny Holzer\, and Adrian Piper\, and contemporary artists like Ann Hirsch\, Hannah Black\, and Hyphen-Lab. She shows how feminist art theory intersected with the rise of digital art\, freeing technology from its patriarchal context. Her last book was Junctures in Women’s Leadership: the Arts\, (Rutgers University Press\, 2018) in collaboration with Dr. Ferris Olin. She is also a printmaker/artist with work in many collections. \nAbout the Moderator\nJodi Throckmorton is the former curator of contemporary art at the Pennsylvania Academy of the Fine Arts (PAFA) in Philadelphia. Before joining PAFA in fall 2014\, she was curator of modern and contemporary art at the Ulrich Museum of Art at Wichita State University in Kansas and had previously been associate curator at the San Jose Museum of Art in California. She organized the exhibition and publications for Joan Semmel: Skin in the Game (2021)\, Rina Banerjee: Make Me a Summary of the World (2018) with Lauren Dickens\, and Postdate: Photography and Inherited History in India (2015)\, among others. \nAbout ArtTable\nArtTable is the foremost professional organization dedicated to advancing the leadership of women in the visual arts. Through our membership network and community initiatives\, we expand professional opportunities for women from diverse backgrounds and at all stages of their careers\, supporting and fostering a stronger future for all women in the arts. \nAll ArtTable members are able to connect with our 1\,200+ network of professional peers throughout the United States and across several other countries outside the U.S. Members also have the option to join one of ten local ArtTable chapters\, located in Chicago\, Florida\, Houston\, Metro Atlanta\, New York\, Northern California\, the Northwest\, Southern California\, Philadelphia\, and Washington\, D.C.
URL:https://www.pbsbooks.org/event/author-talk-judith-brodsky-with-jodi-throckmorton/
CATEGORIES:Trailblazing Women Series
ATTACH;FMTTYPE=image/png:https://www.pbsbooks.org/wp-content/uploads/2022/02/Brodsky-Thockmorton_1200x630.png
END:VEVENT
BEGIN:VEVENT
DTSTART;TZID=America/Halifax:20220315T200000
DTEND;TZID=America/Halifax:20220315T210000
DTSTAMP:20260425T223149
CREATED:20220222T162808Z
LAST-MODIFIED:20240131T004338Z
UID:4499-1647374400-1647378000@www.pbsbooks.org
SUMMARY:Masterpiece: Sanditon Season Two
DESCRIPTION:The Magic of Masterpiece﻿ \nTuesday\, March 15 at 8pm ET | 5pm PT\, PBS Books\, in partnership with MASTERPIECE\, will present a conversation about Sanditon with Justin Young\, who is the Head Writer and Executive Producer for Season 2 and 3. The conversation will be co-hosted by Colleen O’Donnell\, who is Detroit Public Television’s Social Media Manager. Join us to meet Justin Young as he discusses his work and process in writing and producing Sanditon’s new Season 2. \nNineteenth century English writer Jane Austen was a trailblazer and a social changer.  In early 1817\, she fell ill with a mysterious disease when she started work on a novel set in a seaside town called Sanditon. She never finished it. MASTERPIECE introduced its Sanditon mini-series in 2020\, picking up Austen’s setting\, characters\, and plot.  While taking us an amazing adventure in the 19th century with Miss Heywood\, the series also explores issues of race\, sexual abuse\, gender roles\, money\, and power. Season 2 of Sanditon premieres on Sunday\, March 20 at 9 ET. Check your local listing. \n\nAbout the Writer: Justin Young\nJustin Young is Head Writer and Executive Producer on Sanditon\, Seasons 2 and 3. His previous credits include Sanditon\, Season 1\, Dickensian\, Death In Paradise\, and Ripper Street. Justin was Head Writer and Series Producer of Holby City for 3 years\, during which the show was BAFTA-nominated twice. Other TV writing includes Casualty and Eastenders. In 2015\, his play In My Father’s Words enjoyed a critically acclaimed run at the 59E59 Theatre in New York. His plays include The Houghamagandie Pack\, Fierce – An Urban Myth – both for Grid Iron\, Metagama (Soho Theatre)\, August (National Theatre Studio) and Moonwalking in Chinatown (Soho Theatre.) \nWatch a sneak peek of ‘Sanditon’\, Season 2\n\nGet PBS Passport \nCatch up on Season 1 of Sanditon on Masterpiece.  Become a member of your local station and receive benefit of PBS Passport for extended access to critically acclaimed series like Sanditon and much more.
URL:https://www.pbsbooks.org/event/masterpiece-sanditon-season-two/
ATTACH;FMTTYPE=image/png:https://www.pbsbooks.org/wp-content/uploads/2022/02/MasterPiece-Sanditon.png
END:VEVENT
BEGIN:VEVENT
DTSTART;TZID=America/Halifax:20220323T160000
DTEND;TZID=America/Halifax:20220323T170000
DTSTAMP:20260425T223149
CREATED:20220323T135711Z
LAST-MODIFIED:20220323T150004Z
UID:4597-1648051200-1648054800@www.pbsbooks.org
SUMMARY:'Democracy in Crisis' With Barton Gellman
DESCRIPTION:WHEN: Mar 23\, 2022\, 4:00-5:00 pm EDT \nWHERE: This event is virtual. \nWHAT: Democracy in Crisis series with the Ford School. \nPulitzer Prize winning journalist and author Barton Gellman in conversation with Michigan Law Professor from Practice Barbara McQuade\, as part of the spring 2022 Democracy in Crisis series. \nBarton Gellman is the author of multiple books including Dark Mirror. \n REGISTER HERE
URL:https://www.pbsbooks.org/event/democracy-in-crisis-with-barton-gellman/
CATEGORIES:Ford Policy Talks
ATTACH;FMTTYPE=image/jpeg:https://www.pbsbooks.org/wp-content/uploads/2022/03/1920x1080-27.jpg
END:VEVENT
BEGIN:VEVENT
DTSTART;TZID=America/Halifax:20220323T200000
DTEND;TZID=America/Halifax:20220323T210000
DTSTAMP:20260425T223149
CREATED:20220309T231754Z
LAST-MODIFIED:20220309T231754Z
UID:4529-1648065600-1648069200@www.pbsbooks.org
SUMMARY:Trailblazer: Poetry\, Celebrating Robert Frost's Birthday
DESCRIPTION:Wednesday\, March 23 at 8pm ET | 5pm PT\, PBS Books\, in partnership with Poetry In America and the Association for the Study of African American Life and History (ASALH)\, is pleased to present a conversation with poet Tracy K. Smith\, in conversation with Poetry In America Executive Producer and Creator Elisa New\, discussing Robert Frost’s “Mending Wall” in honor of his birthday. \nDo good fences really make good neighbors? Robert Frost’s “Mending Wall” asks surprising questions about the role of walls in civil society. Poetry In America’s Host Elisa New and former U.S. Poet Laureate Tracy K. Smith will delve into this classic poem. \n  \nAbout the Poet: Tracy K. Smith\nTracy K. Smith is a Pulitzer Prize-winning poet\, memoirist\, translator and librettist. She served as Poet Laureate of the United States from 2017-19. Her most recent book is Such Color: New and Selected Poems. She teaches at Harvard University \n  \nAbout the Moderator: Elisa New\nElisa New is the Director and Host of Poetry in America\, director of the Center of Public Humanities at Arizona State University\, director of Verse Video Education\, and Powell M. Cabot Professor of American Literature at Harvard University. New created Poetry in America\, a PBS series\, to bring poetry into living rooms and onto screens of all kinds. The show can be seen on public television and streaming platforms\, in schools and libraries\, and on airlines. Guests include Joe Biden\, Herbie Hancock\, Gloria Estefan\, Shaquille O’Neal\, Elena Kagan\, Nas\, John McCain\, Sonia Sanchez\, Tony Kushner\, Bill Clinton\, Julia Alvarez\, Bono\, Cynthia Nixon\, John Kerry\, LisaGay Hamilton\, Caroline Kennedy\, Katie Couric\, Al Gore\, and David Strathairn. Along with the series\, New produces educational materials on American poetry for all ages—from middle- and high-school students\, to K-12 teachers\, to lifelong learners—distributed by Harvard University\, Amplify Education\, and Arizona State University. \n  \nAbout Poetry In America \nPoetry in America\, created and directed by Harvard professor Elisa New\, is a public television series and multi-platform educational initiative that brings the highest quality humanities content to diverse audiences around the world. \nPoetry in America for-credit courses\, non-credit learning experiences\, and professional development opportunities—including programming designed specifically for high-school students and K-12 teachers—are available in partnership with Arizona State University and Harvard. The Poetry in America series is presented by GBH Boston and distributed by PBS Plus and American Public Television. Season One aired nationally in 2018. Season Two aired in April 2020\, and Season Three will premiere in January 2022. \n  \nFunder information \nSupport for the television series Poetry in America is provided by the National Endowment for the Humanities\, Dalio Philanthropies\, the Alfred P. Sloan Foundation\, the Poetry Foundation\, Deborah Hayes Stone and Max Stone. \nAny views\, findings\, conclusions\, or recommendations expressed in this program do not necessarily represent those of the National Endowment for the Humanities. \n 
URL:https://www.pbsbooks.org/event/trailblazer-poetry-celebrating-robert-frosts-birthday/
ATTACH;FMTTYPE=image/png:https://www.pbsbooks.org/wp-content/uploads/2022/03/Smith-New_1200x630-2.png
END:VEVENT
BEGIN:VEVENT
DTSTART;TZID=America/Halifax:20220324T160000
DTEND;TZID=America/Halifax:20220324T170000
DTSTAMP:20260425T223149
CREATED:20220323T143707Z
LAST-MODIFIED:20220323T145952Z
UID:4606-1648137600-1648141200@www.pbsbooks.org
SUMMARY:"American Democracy: The Path Forward" with Jeb Bush
DESCRIPTION:WHEN: Mar 24\, 2022\, 4:00-5:00 pm EDT \n\nWHERE: This is a virtual event. \nWHAT: Conversations Across Differences series. \nJoin for a U-M Democracy & Debate signature event featuring Governor Jeb Bush in conversation with Ford School Dean Michael S. Barr. \nJeb Bush is the author of multiple books including Immigration Wars. \nREGISTER HERE
URL:https://www.pbsbooks.org/event/american-democracy-the-path-forward-with-jeb-bush/
CATEGORIES:Ford Policy Talks
ATTACH;FMTTYPE=image/jpeg:https://www.pbsbooks.org/wp-content/uploads/2022/03/1920x1080-30.jpg
END:VEVENT
BEGIN:VEVENT
DTSTART;TZID=America/Halifax:20220330T170000
DTEND;TZID=America/Halifax:20220330T180000
DTSTAMP:20260425T223149
CREATED:20220310T160418Z
LAST-MODIFIED:20220406T172640Z
UID:4553-1648659600-1648663200@www.pbsbooks.org
SUMMARY:Trailblazer: Ben Franklin and The Library
DESCRIPTION:Wednesday\, March 30 at 5pm ET | 2pm PT\, PBS Books is pleased to host a conversation with New York Times best-selling author Jane Yolen\, author of The Leather Apron Club: Ben Franklin\, His Son Billy\, & America’s First Circulating Library.  \nCelebrating libraries\, master storyteller Jane Yolen brings Benjamin Franklin and his son Billy story at Leather Apron Club alive. Learn about the first circulating library and hear from Jane Yolen about her work and her creative process.  The author will answer audience questions at the end of the conversation. \nOn April 4 at 8pm ET\, Ken Burns’s four-hour documentary\, BENJAMIN FRANKLIN\, will air on PBS stations across the country.  It explores the revolutionary life of one of the 18th century’s most consequential and compelling personalities\, whose work and words unlocked the mystery of electricity and helped create the United States. “Write things worth reading\,” he said in Poor Richard’s Almanack\, “or do things worth the writing.” Benjamin Franklin did both. This program is offered in partnership with WETA and the PBS network.  #BenFranklinPBS \nAbout the Author\n“I am one of those writers who believe that one should not necessarily write what you know\, but what you want to know.” \nJane Yolen was a gold star kid. She took piano lessons\, studied ballet at Balanchine’s School of American Ballet\, sang in the high school and college choirs was captain of the high school girls’ basketball team\, and News Editor of her high school paper. Her first forays into writing included the production of a musical she wrote in the first grade about vegetables\, and the publication of a newspaper for her apartment building at the age of 10. A veritably precocious child\, Jane was born in New York City but during her childhood\, her small family moved to California\, then back to New York\, and then to Connecticut. She graduated seventh in her high school class (although she believes that if she’d worked a little harder she may have been third) and attended Smith College\, where she won poetry and journalism awards and again wrote the class musical. \nAfter college Jane moved back to New York City where she worked as an editor and wrote during her lunch breaks and on the weekends. She considered herself a poet and journalist\, but to her surprise she became a children’s book writer and sold her first book\, Pirates in Petticoats on her 22nd birthday. Since then she has published around 420 books and received numerous awards\, including a Golden Kite Award\, National Book Award nomination\, a Caldecott Medal for Owl Moon\, and most recently\, the Sydney Taylor Body-of-Work Award. \nJane has three children and six grandchildren. She lives in western Massachusetts\, Mystic Ct. and has a house in Scotland.
URL:https://www.pbsbooks.org/event/trailblazer-ben-franklin-and-the-library/
CATEGORIES:Benjamin Franklin
ATTACH;FMTTYPE=image/png:https://www.pbsbooks.org/wp-content/uploads/2022/03/Jane-Yolen-1.png
END:VEVENT
BEGIN:VEVENT
DTSTART;TZID=America/Halifax:20220331T160000
DTEND;TZID=America/Halifax:20220331T170000
DTSTAMP:20260425T223149
CREATED:20220323T140419Z
LAST-MODIFIED:20220323T145937Z
UID:4600-1648742400-1648746000@www.pbsbooks.org
SUMMARY:'Hiding in Plain Sight' With Sarah Kendzior
DESCRIPTION:‘Hiding in Plain Sight’ With Sarah Kendzior\nWHEN: Mar 31\, 2022\, 4:00-5:00 pm EDT \nWHERE: This event is virtual. \nWHAT: Democracy in Crisis series. \nHear from Sarah Kendzior\, author of Hiding in Plain Sight: The Invention of Donald Trump and the Erosion of America\, as part of the spring 2022 Democracy in Crisis series. \nSarah Kendzior’s book Hiding In Plain Sight comes out April 7. \nREGISTER HERE
URL:https://www.pbsbooks.org/event/hiding-in-plain-sight-with-sarah-kendzior/
CATEGORIES:Ford Policy Talks
ATTACH;FMTTYPE=image/jpeg:https://www.pbsbooks.org/wp-content/uploads/2022/03/1920x1080-28.jpg
END:VEVENT
END:VCALENDAR