BEGIN:VCALENDAR
VERSION:2.0
PRODID:-//PBS Books - ECPv6.15.18//NONSGML v1.0//EN
CALSCALE:GREGORIAN
METHOD:PUBLISH
X-WR-CALNAME:PBS Books
X-ORIGINAL-URL:https://www.pbsbooks.org
X-WR-CALDESC:Events for PBS Books
REFRESH-INTERVAL;VALUE=DURATION:PT1H
X-Robots-Tag:noindex
X-PUBLISHED-TTL:PT1H
BEGIN:VTIMEZONE
TZID:America/Detroit
BEGIN:DAYLIGHT
TZOFFSETFROM:-0500
TZOFFSETTO:-0400
TZNAME:EDT
DTSTART:20240310T070000
END:DAYLIGHT
BEGIN:STANDARD
TZOFFSETFROM:-0400
TZOFFSETTO:-0500
TZNAME:EST
DTSTART:20241103T060000
END:STANDARD
BEGIN:DAYLIGHT
TZOFFSETFROM:-0500
TZOFFSETTO:-0400
TZNAME:EDT
DTSTART:20250309T070000
END:DAYLIGHT
BEGIN:STANDARD
TZOFFSETFROM:-0400
TZOFFSETTO:-0500
TZNAME:EST
DTSTART:20251102T060000
END:STANDARD
BEGIN:DAYLIGHT
TZOFFSETFROM:-0500
TZOFFSETTO:-0400
TZNAME:EDT
DTSTART:20260308T070000
END:DAYLIGHT
BEGIN:STANDARD
TZOFFSETFROM:-0400
TZOFFSETTO:-0500
TZNAME:EST
DTSTART:20261101T060000
END:STANDARD
END:VTIMEZONE
BEGIN:VEVENT
DTSTART;TZID=America/Detroit:20250604T200000
DTEND;TZID=America/Detroit:20250604T210000
DTSTAMP:20260420T181841
CREATED:20250527T151033Z
LAST-MODIFIED:20250827T180534Z
UID:13042-1749067200-1749070800@www.pbsbooks.org
SUMMARY:Wisdom Keepers
DESCRIPTION:﻿ \nJoin PBS Books National Director Heather-Marie Montilla in conversation with Wisdom Keepers host Ray Suarez and executive producer Dr. William Baker. \nThis exclusive conversation offers a behind-the-scenes look at the making of Wisdom Keepers\, a profound new docuseries exploring life’s essential questions through interviews with leading thinkers in philosophy\, faith\, science\, and ethics. The series premieres June 9\, 2025 on the PBS App. \nMore than a preview\, this discussion invites viewers to reflect\, listen\, and engage in meaningful dialogue about belonging\, hope\, and the pursuit of wisdom. \nYou can watch Wisdom Keepers on the PBS app or on PBS.org.  \nWatch Wisdom KeepersHost\n\nHeather-Marie Montilla\nHeather-Marie Montilla\, a dynamic integrative leader\, is an educator and nonprofit manager. She has worked in the nonprofit sector and libraries for over two decades\, making a positive impact in arts\, cultural\, educational\, and community-building arenas. \nHaving joined the PBS Books team as their Library Bureau Chief in Fall 2018\, Montilla is now the National Director of PBS Books and has interviewed more than 150 writers. In addition\, she is a faculty member at Michigan State University and Eastern Michigan University for their Arts and Cultural/Entertainment Management Programs. Having been an Executive Director for 8 years\, Heather has a wide range of experience in management\, finance\, strategic planning\, marketing\, and fundraising. Heather holds a MPA From Columbia University\, a MLIS from Wayne State University\, and a bachelor’s from Duke University. She lives in Chicagoland\, and is married with four children\, a dog\, and a bird. \n\n\nGuests \n\nRay Suarez \nVeteran journalist Ray Suarez was most recently the host of Al Jazeera America’s daily news program\, Inside Story. Before coming to AJAM\, Suarez spent 14 years as a correspondent and anchor at public television’s nightly newscast\, The PBS NewsHour where he rose to become chief national correspondent. During his years at The NewsHour\, Suarez covered the 9/11 attacks on New York and Washington\, four presidential elections\, among hundreds of other stories. In 2004\, and again in 2008\, Suarez moderated presidential candidates debates broadcast on PBS and HDnet. Before PBS NewsHour\, Suarez was the Washington-based host of NPR’s Talk of the Nation for six-and-a-half years. The New York Times called Suarez the “thinking man’s talk show host\,” and “a national resource.” Along with years of daily deadline journalism\, Suarez has done extensive work in long-form broadcast storytelling. During his decades as a broadcaster\, Suarez also did extensive work as a writer. He wrote the 2013 companion volume to the PBS documentary series\, Latino Americans. In 2005 he published an examination of the tightening relationship between religion and electoral politics\, The Holy Vote: The Politics of Faith in America. His first book looked at the decades of transition in urban America\, The Old Neighborhood: What We Lost in the Great Suburban Migration (Free Press\, 1999). Over the years many organizations and institutions have recognized and honored Suarez and his work. He was a co-recipient of two DuPont-Columbia Silver Baton awards\, for coverage of the 1994 South African elections\, and the Gingrich Revolution and the 1995 Republican takeover in the House of Representatives. UCLA’s School of Public Policy awarded Suarez its Public Policy Leadership Award for his coverage of urban America\, and his coverage of global public health has won national and international citations\, including four CINE Golden Eagle Awards. The National Council of La Raza gave Suarez its Ruben Salazar Award\, and the National Association of Hispanic Journalists inducted him into the organization’s Hall of Fame in 2010. Suarez holds a BA in African History\, from New York University\, where he won the Parke Honor in History and the K.Y. Daaku Prize in African Studies. He began his studies at the University of Chicago after winning a Benton Fellowship there in 1991\, and later completed an MA in the Social Sciences. In 2005\, NYU named Suarez a Distinguished Alumnus of the College of Arts and Sciences. He holds 14 honorary doctorates from colleges and universities across America. \n\n\nWilliam Baker \nWilliam Franklin Baker is an American broadcaster\, author\, academic\, and explorer. \nBaker directs the Bernard L. Schwartz Center for Media\, Education\, and Public Policy at Fordham University\, where he is a Journalist in Residence and professor in the Graduate School of Education. He is also a Distinguished Professor of Media & Entertainment at IESE Business School\, Barcelona\, Spain\, and Professor President Emeritus of WNET (New York’s public television station). He teaches a business class at the Juilliard School in New York City. \nBaker has received seven Emmy Awards\, including the 1987 Trustees Emmy Award. He is a fellow of the American Academy of Arts and Sciences. He has been inducted into the Management Hall of Fame by the National Academy of Television Arts & Sciences (NATAS)\, the Broadcasting & Cable Hall of Fame\, and the New York State Broadcasters Association Hall of Fame. He received the Mark Schubart award from the Lincoln Center Institute. He has also received two Alfred I. duPont–Columbia University Awards and the Gabriel Personal Achievement Award. In 2016\, he was honored by the Chamber Music Society of Lincoln Center for his work in the performing arts.
URL:https://www.pbsbooks.org/event/wisdom-keepers/
ATTACH;FMTTYPE=image/png:https://www.pbsbooks.org/wp-content/uploads/2025/05/PBKS_WisdomKeepers_1920x1080_VOD-1.png
END:VEVENT
BEGIN:VEVENT
DTSTART;TZID=America/Detroit:20250611T200000
DTEND;TZID=America/Detroit:20250611T210000
DTSTAMP:20260420T181841
CREATED:20250506T204446Z
LAST-MODIFIED:20250611T154511Z
UID:12195-1749672000-1749675600@www.pbsbooks.org
SUMMARY:Author Talk: Mac Barnett
DESCRIPTION:Join PBS Books for a joyful\, laugh-out-loud\, and insightful conversation with Mac Barnett\, the 2025–2026 National Ambassador for Young People’s Literature\, as we celebrate the power of storytelling to spark curiosity\, build empathy\, and nurture lifelong readers. \nIn this delightful interview\, Mac chats with Heather-Marie Montilla about the magic of picture books and why they deserve a spot on every bookshelf—child and adult alike. With humor\, heart\, and imagination\, Mac reflects on his journey as a beloved children’s book author and shares how young readers often bring the deepest insights to the stories he creates. From Sam and Dave Dig a Hole to President Taft Is Stuck in the Bath\, Mac’s work is filled with wonder\, surprising turns\, and an open invitation to think\, laugh\, and connect. \nThis ambassadorial appointment is made possible through a collaboration between the Library of Congress\, the Children’s Book Council\, and Every Child a Reader. As the 9th National Ambassador\, Mac brings his signature wit and creativity to the role—championing picture books as one of the great\, and often underappreciated\, literary forms. \nDon’t miss this engaging conversation that celebrates reading together\, building community through books\, and the storytelling that shapes thoughtful\, imaginative young minds. \nHost\n\nHeather-Marie Montilla\nHeather-Marie Montilla\, a dynamic integrative leader\, is an educator and nonprofit manager. She has worked in the nonprofit sector and libraries for over two decades\, making a positive impact in arts\, cultural\, educational\, and community-building arenas. \nHaving joined the PBS Books team as their Library Bureau Chief in Fall 2018\, Montilla is now the National Director of PBS Books and has interviewed more than 150 writers. In addition\, she is a faculty member at Michigan State University and Eastern Michigan University for their Arts and Cultural/Entertainment Management Programs. Having been an Executive Director for 8 years\, Heather has a wide range of experience in management\, finance\, strategic planning\, marketing\, and fundraising. Heather holds a MPA From Columbia University\, a MLIS from Wayne State University\, and a bachelor’s from Duke University. She lives in Chicagoland\, and is married with four children\, a dog\, and a bird. \n\n\nGuest \nMac Barnett \nMac Barnett\, the 2025–2026 National Ambassador for Young People’s Literature\, is a New York Times best-selling author of stories for children. His work has been translated into more than thirty languages and sold more than five million copies worldwide. Mac Barnett’s books have won many prizes\, including two Caldecott Honors\, three New York Times / New York Public Library Best Illustrated Children’s Book Awards\, three E. B. White Read-Aloud Awards\, the Boston Globe–Horn Book Award\, Germany’s Jugendliteraturpreis\, China’s Chen Bochui International Children’s Literature Award\, the Netherlands’ Zilveren Griffel\, and Italy’s Premio Orbil. He is the cocreator\, with Jon Klassen\, of the Substack Looking at Picture Books\, as well as Shape Island\, a stop-motion animated series on Apple TV+\, based on their best-selling Shapes series of picture books. Mac Barnett lives in Oakland\, California.
URL:https://www.pbsbooks.org/event/author-talk-mac-barnett/
ATTACH;FMTTYPE=image/png:https://www.pbsbooks.org/wp-content/uploads/2025/05/PBOOKS-2024-MAC-BARNETT-1280x720-2.png
END:VEVENT
BEGIN:VEVENT
DTSTART;TZID=America/Detroit:20250612T200000
DTEND;TZID=America/Detroit:20250612T210000
DTSTAMP:20260420T181841
CREATED:20250612T133542Z
LAST-MODIFIED:20250612T140620Z
UID:13134-1749758400-1749762000@www.pbsbooks.org
SUMMARY:Gary Graff: 501 Essential Albums of the ‘80s
DESCRIPTION:Reflecting on one of the most vibrant decades in music history\, acclaimed music journalist and author Gary Graff joins host Fred Nahhat to discuss his latest work\, 501 Essential Albums of the ’80s. \nHost \nFred Nahhat\nSr. VP\, Production & Host\, Detroit Public TV | PBS\n \nFred Nahhat is an Emmy Award-winning producer\, host\, and presenter for Detroit’s PBS station\, where he serves as Sr. VP of Production. \nA 30-year broadcast veteran\, Fred has hosted and produced numerous programs for Public TV – including music specials from Il Volo\, Celtic Gold and the New Divas – as well as other series and specials “New Year’s Eve with the DSO”\, “The Detroit Dream Cruise\,” “The PBS Books Readers Club” and “Get Up\, Get Out\,” among others. \nHe is a graduate of Wayne State University and a member of the National Academy of Television Arts and Sciences Michigan Chapter\, USA Hockey\, and Leadership Detroit.
URL:https://www.pbsbooks.org/event/gary-graff-501-essential-albums-of-the-80s/
ATTACH;FMTTYPE=image/jpeg:https://www.pbsbooks.org/wp-content/uploads/2025/06/Gary-Graff-501.jpg
END:VEVENT
BEGIN:VEVENT
DTSTART;TZID=America/Detroit:20250618T200000
DTEND;TZID=America/Detroit:20250618T210000
DTSTAMP:20260420T181841
CREATED:20250611T155352Z
LAST-MODIFIED:20260221T210450Z
UID:13117-1750276800-1750280400@www.pbsbooks.org
SUMMARY:Filmmaker Talk: Behind the Scenes of Caregiving
DESCRIPTION:Join us for a special PBS Books Filmmaker Talk featuring Director and Senior Producer Chris Durrance as he takes you behind the scenes of the powerful PBS documentary Caregiving. Hosted by PBS Books National Director Heather-Marie Montilla\, this in-depth conversation explores the making of the film and its companion shorts\, sharing the stories and challenges of caregiving across America. \nCaregiving — narrated by award-winning actress Uzo Aduba and executive produced by Bradley Cooper — is a poignant two-hour documentary that premieres nationwide on PBS on June 24\, 2025\, at 9 p.m. ET and is currently available for streaming on the PBS App and website. The film highlights the personal experiences of millions of caregivers — both paid and unpaid — revealing their daily challenges and triumphs while placing caregiving within the broader cultural and economic context of the U.S. care system. \nIn the Filmmaker Talk\, Chris Durrance shares insights on the innovative storytelling approach that includes not only the feature documentary but also 18 short films\, which capture diverse caregiving stories from communities nationwide. Together with Heather-Marie Montilla\, he discusses the importance of recognizing caregiving as a universal act of kindness and community\, and how sharing stories can spark greater empathy and support. \nWhether you are a caregiver or someone who wants to better understand this vital role in our society\, this program offers a meaningful look at caregiving’s many dimensions and encourages viewers to join the conversation. \nWatch the PBS Books Filmmaker Talk stream live on YouTube\, Facebook\, and the PBS App. \nFor more about Caregiving and to share your own story\, visit wellbeings.org/share-your-story and join the national conversation using #ShareYourCaregivingStory. \nHost\n\nHeather-Marie Montilla\nHeather-Marie Montilla\, a dynamic integrative leader\, is an educator and nonprofit manager. She has worked in the nonprofit sector and libraries for over two decades\, making a positive impact in arts\, cultural\, educational\, and community-building arenas. \nHaving joined the PBS Books team as their Library Bureau Chief in Fall 2018\, Montilla is now the National Director of PBS Books and has interviewed more than 150 writers. In addition\, she is a faculty member at Michigan State University and Eastern Michigan University for their Arts and Cultural/Entertainment Management Programs. Having been an Executive Director for 8 years\, Heather has a wide range of experience in management\, finance\, strategic planning\, marketing\, and fundraising. Heather holds a MPA From Columbia University\, a MLIS from Wayne State University\, and a bachelor’s from Duke University. She lives in Chicagoland\, and is married with four children\, a dog\, and a bird. \n\n\nGuest \nChris Durrance\nDirector & Senior Producer Caregiving\, Producer at Ark Media \nChris Durrance is an award-winning documentary filmmaker\, who is director of the forthcoming PBS series\, Caregiving. Durrance worked on more than a dozen films for Frontline\, three presidential biographies and an independent documentary on gerrymandering – Slay the Dragon – which premiered at the Tribeca Film Festival. He is the winner of a Peabody\, two Emmys\, a duPont-Columbia silver baton and an Overseas Press Club award. Recently\, Durrance directed two major PBS series on science and medicine – Cancer: The Emperor of All Maladies and The Gene. He is the founder of Seven One Eight Studios.
URL:https://www.pbsbooks.org/event/filmmaker-talk-caregiving/
ATTACH;FMTTYPE=image/png:https://www.pbsbooks.org/wp-content/uploads/2025/06/PBOOKS-2024-Caregiving-1280x720-1.png
END:VEVENT
BEGIN:VEVENT
DTSTART;TZID=America/Detroit:20250625T200000
DTEND;TZID=America/Detroit:20250625T210000
DTSTAMP:20260420T181841
CREATED:20250527T155654Z
LAST-MODIFIED:20260302T203924Z
UID:12201-1750881600-1750885200@www.pbsbooks.org
SUMMARY:PBS Books Readers Club: Our Favorite Cozy Murder Mysteries
DESCRIPTION:PBS Books Readers Club hosts a special event sharing Our Favorite Cozy Murder Mysteries from Masterpiece and the authors who wrote the amazing novels that inspired them. The episode premieres on June 25th at 8PM ET on Facebook\, YouTube\, and the PBS app. \nFor years\, Masterpiece has been bringing renowned murder mystery novels to life through fantastic adaptations. In this special episode\, we’ll feature interviews like Robert Thorogood (The Marlow Murder Club)\, Anthony Horowitz (Magpie Murders and Moonflower Murders)\, and Daisy Coulam (executive producer and writer of Grantchester). Our hosts will explore the key elements of a great cozy mystery novel\, with insights from past interviews on crafting intricate puzzles and developing memorable characters. The hosts also share their favorite cozy murder mystery book recommendations. \n\n“I don’t expect the reader to fail to guess who the killer is. There’s normally only 4 or 5 suspects\, but the game\, and it is a parlor game\, is can I smuggle the killer past you? Because when you’re reading a book and you see the reveal of who the killer is and you didn’t see it or you discounted that person long ago\, the thrill you get is so intoxicating. And I’m sort of chasing that thrill when I try and write a book.” – Robert Thorogood\, The Marlow Murder Club \n\nOur PBS watch-alike this month is the Masterpiece Cozy Mystery PBS pledge program. For over 50 years\, Masterpiece has been home to captivating crime dramas\, with cozy mysteries emerging as fan favorites. These lighthearted stories feature amateur sleuths in tight-knit communities\, focusing on puzzles and characters rather than violence. Shows like Grantchester\, Miss Scarlet\, Magpie Murders\, and The Marlow Murder Club offer a feel-good take on crime\, filled with twists\, humor\, and charm. We’re celebrating these uplifting\, fast-paced mysteries for their unique\, comforting appeal. \n About the Hosts\nPrincess Weekes\nPrincess Weekes is an award winning writer and video essayist who works at breaking down the intersections between race\, gender\, and pop culture. Formally an Assistant Editor at The Mary Sue\, co-host of Netflix’s The Geeked Podcast\, and co-host and co-writer on the PBS Digital Series It’s Lit. On weekends she works as a bookseller at a local bookstore. When not reading or writing she can be found playing TTRPGs of cuddling with her cat\, Lola. \n\n\nLauren Smith\nExecutive Producer and host of national PBS programming at Detroit PBS\, Lauren develops content for PBS and other distributors of public media for broadcast\, streaming\, and other digital channels and has executive-produced and/or produced over 60 national broadcast and programs. Her passion is to develop inspiring\, entertaining\, and educational content alongside the best national and international talent\, and to engage important content with communities across the country. Lauren loves to read and has worked to develop and produce PBS Books content for nearly ten years!
URL:https://www.pbsbooks.org/event/readers-club-206/
ATTACH;FMTTYPE=image/png:https://www.pbsbooks.org/wp-content/uploads/2025/05/206-VOD-Graphic.png
END:VEVENT
END:VCALENDAR