BEGIN:VCALENDAR
VERSION:2.0
PRODID:-//PBS Books - ECPv6.15.18//NONSGML v1.0//EN
CALSCALE:GREGORIAN
METHOD:PUBLISH
X-WR-CALNAME:PBS Books
X-ORIGINAL-URL:https://www.pbsbooks.org
X-WR-CALDESC:Events for PBS Books
REFRESH-INTERVAL;VALUE=DURATION:PT1H
X-Robots-Tag:noindex
X-PUBLISHED-TTL:PT1H
BEGIN:VTIMEZONE
TZID:America/Detroit
BEGIN:DAYLIGHT
TZOFFSETFROM:-0500
TZOFFSETTO:-0400
TZNAME:EDT
DTSTART:20240310T070000
END:DAYLIGHT
BEGIN:STANDARD
TZOFFSETFROM:-0400
TZOFFSETTO:-0500
TZNAME:EST
DTSTART:20241103T060000
END:STANDARD
BEGIN:DAYLIGHT
TZOFFSETFROM:-0500
TZOFFSETTO:-0400
TZNAME:EDT
DTSTART:20250309T070000
END:DAYLIGHT
BEGIN:STANDARD
TZOFFSETFROM:-0400
TZOFFSETTO:-0500
TZNAME:EST
DTSTART:20251102T060000
END:STANDARD
BEGIN:DAYLIGHT
TZOFFSETFROM:-0500
TZOFFSETTO:-0400
TZNAME:EDT
DTSTART:20260308T070000
END:DAYLIGHT
BEGIN:STANDARD
TZOFFSETFROM:-0400
TZOFFSETTO:-0500
TZNAME:EST
DTSTART:20261101T060000
END:STANDARD
END:VTIMEZONE
BEGIN:VEVENT
DTSTART;TZID=America/Detroit:20250709T200000
DTEND;TZID=America/Detroit:20250709T210000
DTSTAMP:20260417T160933
CREATED:20250630T185509Z
LAST-MODIFIED:20250710T174944Z
UID:13280-1752091200-1752094800@www.pbsbooks.org
SUMMARY:America250 Reading List
DESCRIPTION:This Independence Day\, PBS Books is proud to present the America250 Reading List—a curated literary journey that celebrates the path to American freedom and commemorates the signing of the Declaration of Independence on July 4\, 1776. \nAs our nation prepares to mark 250 years of independence\, we invite readers of all ages to reflect on the people\, events\, and ideals that forged the United States. This special reading list brings together compelling titles across three distinct genres—nonfiction\, historical fiction\, and children’s literature—to illuminate the courage\, complexity\, and conviction behind America’s founding. \n???? Nonfiction – Not Just for the History Enthusiast \nDive into meticulously researched works that provide powerful insights into the Revolution and the broader context of American independence that are written in a novelist style. These books reveal untold stories and broaden our understanding of the era—from George Washington’s leadership and the complexities of Indigenous and African American experiences\, to the moral struggles that defined the fight for liberty. \nHighlights include: \n1776 by David McCullough\nFounding Mothers and Ladies of Liberty by Cokie Roberts\nAfrican Founders by David Hackett Fischer\nThe First Conspiracy by Brad Meltzer\nBenjamin Franklin: An American Life by Walter Isaacson \n???? Historical Fiction – For the Story Seekers \nExperience the era of revolution through the eyes of unforgettable characters brought to life by gifted storytellers. These novels blend fact with fiction\, immersing readers in personal dramas set against the backdrop of historical transformation. Whether following the bold disguise of a woman soldier or the trials of Eliza Hamilton\, these stories add human depth to our nation’s founding. \nFeatured titles include: \nA Girl Called Samson by Amy Harmon\nMy Dear Hamilton by Stephanie Dray and Laura Kamoie\nThe Traitor’s Wife by Allison Pataki\nAmerica’s First Daughter by Stephanie Dray and Laura Kamoie\nTell the Bees That I Am Gone by Diana Gabaldon\nThe Hamilton Affair by Elizabeth Cobbs \n???? Children’s Books – For Young Patriots \nInspire the next generation with accessible\, engaging\, and age-appropriate books that bring the American Revolution to life. These titles are packed with colorful illustrations\, fascinating facts\, and heroic figures—from George Washington and Thomas Jefferson to the everyday kids and families who shaped history. \nPerfect picks include: \nHistory Smashers: The American Revolution by Kate Messner\nGuts & Glory: The American Revolution by Ben Thompson\nWashington\, Adams\, and Jefferson by C.A. Worman\nRebellion 1776 by Laurie Halse Anderson\nThe History of the American Revolution by Emma Carlson Berne \nWhether you’re revisiting the founding ideals of our democracy or discovering them for the first time\, the America250 Reading List offers something for every reader. We hope these books spark thoughtful conversation\, deeper understanding\, and a renewed appreciation for the values that continue to shape our great nation. \nExplore the full list below and join us in celebrating 250 years of the American spirit—through the power of books. \n\n            \n          This page contains affiliate links; PBS Books will earn a commission for any purchases made through these links.
URL:https://www.pbsbooks.org/event/america250-reading-list/
ATTACH;FMTTYPE=image/png:https://www.pbsbooks.org/wp-content/uploads/2025/06/America250-Reading-List.png
END:VEVENT
BEGIN:VEVENT
DTSTART;TZID=America/Detroit:20250720T100000
DTEND;TZID=America/Detroit:20250720T150000
DTSTAMP:20260417T160933
CREATED:20250707T180008Z
LAST-MODIFIED:20250805T130508Z
UID:13297-1753005600-1753023600@www.pbsbooks.org
SUMMARY:PBS Books Live at the Detroit Festival of Books
DESCRIPTION:Detroit Festival of Books – Live\nPBS Books is thrilled to present exclusive live coverage from the 2025 Detroit Festival of Books at the historic Eastern Market. Join us on Sunday\, July 20\, for a day-long celebration of storytelling\, identity\, and community. This free virtual event is made possible through the generous support of the Center for Asian American Media (CAAM)\, with additional support from Michigan Humanities and the Detroit Festival of Books. \nThroughout the day\, tune in for live author interviews\, cultural conversations\, and behind-the-scenes festival coverage\, streaming nationally on all PBS Books digital platforms. In-person attendees can visit the PBS Books booth—shared with Michigan Humanities—to meet PBS Books hosts Fred Nahhat and Lauren Smith\, and connect with fellow book lovers from around the region. \nThis event is produced in partnership with the Center for Asian American Media (CAAM). \nThe Center for Asian American Media (CAAM) is a nonprofit organization dedicated to presenting stories that convey the richness and diversity of Asian American experiences to the broadest audience possible. \nStay Connected & Watch Live: \n\nPBS Books YouTube: @PBSBooks\nFacebook: facebook.com/PBSBooks1\nInstagram: @pbsbooks\nLinkedIn: PBS Books LinkedIn\nPBS App: Watch Free on PBS App\n\nShop books and support PBS Books via our Bookshop page – a portion of proceeds supports more author events and library resources. \nSpotlight on Great Michigan Read Author Curtis Chin\nPBS Books & the Centers for Asian American Media (CAAM) have proudly partnered in spotlighting Curtis Chin\, Detroit native and author of the acclaimed memoir Everything I Learned\, I Learned in a Chinese Restaurant\, selected as the 2025–2026 Great Michigan Read. Join us for a special on-site conversation with Curtis\, where he’ll explore themes of family\, identity\, and community rooted in his experience growing up in Detroit’s Chinatown.  \nCurtis will also share insights into his broader body of work:  \n\n“Who Killed Vincent Chin?” – We’ll reflect on the groundbreaking 1987 PBS film that awakened national conversation around race and justice. \n“Vincent Who?” – Curtis’s own follow-up documentary\, diving deeper into the lasting impact of Vincent Chin’s murder on Asian American identity and activism. \n“Dear Corky” (2022\, PBS American Masters) – A tribute to pioneering photographer Corky Lee and a powerful look at documenting Asian American history.\nA sneak preview of Curtis’s upcoming film about Chinese American paper artist Warren King\, capturing the intersection of art\, memory\, and diaspora.\nAnd so much more! \n\nIn addition to his live festival appearance\, PBS Books will premiere a full-hour recorded author talk with Curtis Chin—captured at the Detroit Public Library’s Main Branch on Friday\, July 18—that will be made available video on demand.  \nFestivalgoers can also meet Curtis Chin in person at the PBS Books booth for book signings and casual conversations throughout the day.  \nDon’t miss this vibrant celebration of books\, voices\, and the power of community. \nShop the Book List\n                      This list contains affiliate links. When you buy through links on our site\, PBS Books may earn an affiliate commission. \nFeatured Speakers\nRevisiting Who Killed Vincent Chin? | One Detroit\nNearly four decades after the documentary Who Killed Vincent Chin? premiered\, the filmmakers Christine Choy and Renee Tajima-Peña\, alongside Detroit Public TV’s Juanita Anderson\, join Detroit-area filmmaker Chien-An Yuan to talk about the making of the documentary\, the civil rights movement they covered in real-time\, and the significance the film still holds nearly today.
URL:https://www.pbsbooks.org/event/detroit-bookfest-2025/
LOCATION:Eastern Market Shed 5\, 2934 Russell St\, Detroit\, MI\, 48207\, United States
ATTACH;FMTTYPE=image/png:https://www.pbsbooks.org/wp-content/uploads/2025/07/Det-Book-Fest-Title-Sponsors-bkg.png
END:VEVENT
BEGIN:VEVENT
DTSTART;TZID=America/Detroit:20250730T200000
DTEND;TZID=America/Detroit:20250730T210000
DTSTAMP:20260417T160933
CREATED:20250625T200324Z
LAST-MODIFIED:20250729T192103Z
UID:13220-1753905600-1753909200@www.pbsbooks.org
SUMMARY:PBS Books Readers Club - "Lessons in Chemistry" by Bonnie Garmus
DESCRIPTION:PBS Books Readers Club welcomes international best-selling author Bonnie Garmus to discuss her novel Lessons in Chemistry. The episode premieres on July 30th at 8PM ET on Facebook\, YouTube\, and the PBS App. \nLessons in Chemistry follows Elizabeth Zott\, a brilliant young chemist who struggles to be taken seriously in the male-dominated world of the 1950s. She forms a deep connection with her colleague and renowned chemist\, Calvin Evans. But like science\, life is unpredictable\, and Zott unexpectedly finds herself a single mother\, reluctantly hosting a cooking show—Supper at Six. While the show appears to be about cooking\, Zott uses it as a platform to teach housewives not just about chemistry\, but also to value their time and self-worth\, ultimately becoming an unexpected feminist icon. \nLessons in Chemistry is a mix of humor\, social commentary\, and heart\, exploring themes like feminism\, scientific passion\, and the struggle for respect in the workplace. It’s a unique and thought-provoking story that combines wit with deeper reflections on women’s roles in both science and society. \nPBS Watch-Alike: The Great American Recipe \nThis friendly cooking competition follows home cooks from all around the country. Celebrating America’s rich culture through cuisine\, this show emphasizes how food helps to shape our heritage\, identity\, and community. Season 4 of The Great American Recipe premieres July 11 on PBS. \n About the AuthorBonnie Garmus \n\nBonnie Garmus is a copywriter and creative director who has worked for a wide range of clients\, in the US and abroad\, focusing primarily on technology\, medicine\, and education. From Seattle\, she currently lives in London with her husband and her dog\, 99.\n\n About the Hosts\nPrincess Weekes\nPrincess Weekes is an award winning writer and video essayist who works at breaking down the intersections between race\, gender\, and pop culture. Formally an Assistant Editor at The Mary Sue\, co-host of Netflix’s The Geeked Podcast\, and co-host and co-writer on the PBS Digital Series It’s Lit. On weekends she works as a bookseller at a local bookstore. When not reading or writing she can be found playing TTRPGs of cuddling with her cat\, Lola. \n\n\nLauren Smith\nExecutive Producer and host of national PBS programming at Detroit PBS\, Lauren develops content for PBS and other distributors of public media for broadcast\, streaming\, and other digital channels and has executive-produced and/or produced over 60 national broadcast and programs. Her passion is to develop inspiring\, entertaining\, and educational content alongside the best national and international talent\, and to engage important content with communities across the country. Lauren loves to read and has worked to develop and produce PBS Books content for nearly ten years!
URL:https://www.pbsbooks.org/event/readers-club-207/
ATTACH;FMTTYPE=image/png:https://www.pbsbooks.org/wp-content/uploads/2025/06/PBOOKS-Bonnie-Garmus-1280x720_VOD.png
END:VEVENT
END:VCALENDAR